BEGIN:VCALENDAR
VERSION:2.0
PRODID:-//ChamberMaster//Event Calendar 2.0//EN
METHOD:PUBLISH
X-PUBLISHED-TTL:P3D
REFRESH-INTERVAL:P3D
CALSCALE:GREGORIAN
BEGIN:VEVENT
DTSTART:20160927T200000Z
DTEND:20160927T220000Z
X-MICROSOFT-CDO-ALLDAYEVENT:FALSE
SUMMARY:Sauk Prairie Young Connection Behind the Scenes at Mueller Sports Medicine
DESCRIPTION:Join the Sauk Prairie Young Connections for a Behind the Scenes at Mueller Sports Medicine   Tour & Presentation\, 3   5:00 pm   Hear from Mueller Staff on Leadership & Vision Casting\, while dealing with two very different \n\ngenerations in the workplace.
X-ALT-DESC;FMTTYPE=text/html:Join the Sauk Prairie Young Connections for a Behind the Scenes at Mueller Sports Medicine &ndash\; Tour &amp\; Presentation\,&nbsp\;3 &ndash\; 5:00 pm &ndash\; Hear from Mueller Staff on Leadership &amp\; Vision Casting\, while dealing with two very different&nbsp\;<br />\ngenerations in the workplace.&nbsp\;
LOCATION:Mueller Sports Medicine
UID:e.1184.9360
SEQUENCE:3
DTSTAMP:20260425T193222Z
URL:http://members.saukprairie.com/events/details/sauk-prairie-young-connection-behind-the-scenes-at-mueller-sports-medicine-9360
END:VEVENT

END:VCALENDAR
