BEGIN:VCALENDAR
VERSION:2.0
PRODID:-//ChamberMaster//Event Calendar 2.0//EN
METHOD:PUBLISH
X-PUBLISHED-TTL:P3D
REFRESH-INTERVAL:P3D
CALSCALE:GREGORIAN
BEGIN:VEVENT
DTSTART:20160712T193000Z
DTEND:20160712T220000Z
X-MICROSOFT-CDO-ALLDAYEVENT:FALSE
SUMMARY:Sauk Prairie Young Connection Trap & Skeet Event
DESCRIPTION:Members will first hear from local President and CEO Phil Keiser\, Culver Franchising System\, Inc.\, on Growing as a Community Leader &\n\nAccomplishing Goals. Afterwards members will enjoy networking while trap shooting.\n\n\n\n* Attendees are encouraged to bring their own gun and ammunition\; however\, one can be provided for you if necessary.\n\n\n\nRSVP: spacc@saukprairie.com
X-ALT-DESC;FMTTYPE=text/html:Members will first hear from local&nbsp\;President and CEO Phil Keiser\,&nbsp\;Culver Franchising System\, Inc.\, on&nbsp\;Growing as a Community Leader &amp\;<br />\nAccomplishing Goals. Afterwards&nbsp\;members will enjoy networking&nbsp\;while trap shooting.<br />\n<br />\n* Attendees are encouraged to bring their&nbsp\;own gun and ammunition\; however\, one can&nbsp\;be provided for you if necessary.<br />\n<br />\nRSVP: spacc@saukprairie.com
LOCATION:SAUK PRAIRIE TRAP & SKEET CLUB E11102 Sauk Prairie Road\, PDS
UID:e.1184.8604
SEQUENCE:3
DTSTAMP:20260425T224633Z
URL:http://members.saukprairie.com/events/details/sauk-prairie-young-connection-trap-skeet-event-07-12-2016-8604
END:VEVENT

END:VCALENDAR
