BEGIN:VCALENDAR
VERSION:2.0
PRODID:-//ChamberMaster//Event Calendar 2.0//EN
METHOD:PUBLISH
X-PUBLISHED-TTL:P3D
REFRESH-INTERVAL:P3D
CALSCALE:GREGORIAN
BEGIN:VEVENT
DTSTART:20161203T010000Z
DTEND:20161203T050000Z
X-MICROSOFT-CDO-ALLDAYEVENT:FALSE
SUMMARY:Sauk Prairie Young Connections Annual Bowling Event
DESCRIPTION:Join the Sauk Prairie Young Connections for their annual bowling event! Starts at 7pm - rsvp to spacc@saukprairie.com everyone is welcome!
X-ALT-DESC;FMTTYPE=text/html:Join the Sauk Prairie Young Connections for their annual bowling event! Starts at 7pm&nbsp\;- rsvp to spacc@saukprairie.com everyone is welcome!
LOCATION:Riviera Bowl and Pizzeria 51 Polk St\, Sauk City
UID:e.1184.9495
SEQUENCE:3
DTSTAMP:20260425T142045Z
URL:http://members.saukprairie.com/events/details/sauk-prairie-young-connections-annual-bowling-event-9495
END:VEVENT

END:VCALENDAR
