BEGIN:VCALENDAR
VERSION:2.0
PRODID:-//ChamberMaster//Event Calendar 2.0//EN
METHOD:PUBLISH
X-PUBLISHED-TTL:P3D
REFRESH-INTERVAL:P3D
CALSCALE:GREGORIAN
BEGIN:VEVENT
DTSTART:20210724T143000Z
DTEND:20210724T173000Z
X-MICROSOFT-CDO-ALLDAYEVENT:FALSE
SUMMARY:Sauk Prairie Youth Sidewalk Chalk Festival!
DESCRIPTION:Celebrate summer with the first ever Sauk Prairie Sidewalk Chalk Festival! Join us on Saturday\, July 24 from 9:30am-12:30pm in Meyer Oak Grove Park for a morning of art\, fun\, and music.\n\nFree to participate! Sign up for a spot on the sidewalk in the park to make your own! Kids ages 8-16 welcome. More info on sign-up will be available after May 1\, so stay tuned!\n\nFeaturing professional chalk artist Peter Davidson creating a masterpiece live during the event\, stop back often to see his progress!\n\nAlso featuring:\n\n-Sauk Prairie Farmer's Market. Fresh food\, produce\, baked goods\, and gifts\n\n-Free kids' activity area\n\n-Live marimba performance\n\n-Prizes and giveaways\n\nAnd more to be announced soon!\n\nSpecial thanks to TDS for sponsoring this event and making it possible!
X-ALT-DESC;FMTTYPE=text/html:<div class="kvgmc6g5 cxmmr5t8 oygrvhab hcukyx3x c1et5uql" style="overflow-wrap: break-word\; margin: 0px\; font-family: &quot\;Segoe UI Historic&quot\;\, &quot\;Segoe UI&quot\;\, Helvetica\, Arial\, sans-serif\; color: rgb(5\, 5\, 5)\; font-size: 15px\;">Celebrate summer with the first ever Sauk Prairie Sidewalk Chalk Festival! Join us on Saturday\, July 24 from 9:30am-12:30pm in Meyer Oak Grove Park for a morning of art\, fun\, and music.</div>\n\n<div class="o9v6fnle cxmmr5t8 oygrvhab hcukyx3x c1et5uql" style="overflow-wrap: break-word\; margin: 0.5em 0px 0px\; font-family: &quot\;Segoe UI Historic&quot\;\, &quot\;Segoe UI&quot\;\, Helvetica\, Arial\, sans-serif\; color: rgb(5\, 5\, 5)\; font-size: 15px\;">Free to participate! Sign up for a spot on the sidewalk in the park to make your own! Kids ages 8-16 welcome. More info on sign-up will be available after May 1\, so stay tuned!</div>\n\n<div class="o9v6fnle cxmmr5t8 oygrvhab hcukyx3x c1et5uql" style="overflow-wrap: break-word\; margin: 0.5em 0px 0px\; font-family: &quot\;Segoe UI Historic&quot\;\, &quot\;Segoe UI&quot\;\, Helvetica\, Arial\, sans-serif\; color: rgb(5\, 5\, 5)\; font-size: 15px\;">Featuring professional chalk artist Peter Davidson creating a masterpiece live during the event\, stop back often to see his progress!</div>\n\n<div class="o9v6fnle cxmmr5t8 oygrvhab hcukyx3x c1et5uql" style="overflow-wrap: break-word\; margin: 0.5em 0px 0px\; font-family: &quot\;Segoe UI Historic&quot\;\, &quot\;Segoe UI&quot\;\, Helvetica\, Arial\, sans-serif\; color: rgb(5\, 5\, 5)\; font-size: 15px\;">Also featuring:<br />\n-Sauk Prairie Farmer&#39\;s Market. Fresh food\, produce\, baked goods\, and gifts<br />\n-Free kids&#39\; activity area<br />\n-Live marimba performance<br />\n-Prizes and giveaways</div>\n\n<div class="o9v6fnle cxmmr5t8 oygrvhab hcukyx3x c1et5uql" style="overflow-wrap: break-word\; margin: 0.5em 0px 0px\; font-family: &quot\;Segoe UI Historic&quot\;\, &quot\;Segoe UI&quot\;\, Helvetica\, Arial\, sans-serif\; color: rgb(5\, 5\, 5)\; font-size: 15px\;">And more to be announced soon!</div>\n\n<div class="o9v6fnle cxmmr5t8 oygrvhab hcukyx3x c1et5uql" style="overflow-wrap: break-word\; margin: 0.5em 0px 0px\; font-family: &quot\;Segoe UI Historic&quot\;\, &quot\;Segoe UI&quot\;\, Helvetica\, Arial\, sans-serif\; color: rgb(5\, 5\, 5)\; font-size: 15px\;">Special thanks to TDS for sponsoring this event and making it possible!</div>\n
LOCATION:Meyer Oak Grove Park
UID:e.1184.26618
SEQUENCE:3
DTSTAMP:20260422T021430Z
URL:http://members.saukprairie.com/events/details/sauk-prairie-youth-sidewalk-chalk-festival-26618
END:VEVENT

END:VCALENDAR
