BEGIN:VCALENDAR
VERSION:2.0
PRODID:-//ChamberMaster//Event Calendar 2.0//EN
METHOD:PUBLISH
X-PUBLISHED-TTL:P3D
REFRESH-INTERVAL:P3D
CALSCALE:GREGORIAN
BEGIN:VEVENT
DTSTART:20190628T000000Z
DTEND:20190628T020000Z
X-MICROSOFT-CDO-ALLDAYEVENT:FALSE
SUMMARY:Say It Ain't Soul
DESCRIPTION:From the purple quartzite bluffs of Baraboo\, WI comes a new funk/soul group that puts the "power" in power trio: SAY IT AIN'T SOUL. Plundering the deep mine of late 60s & early 70s funk\, soul and R&B  SAY IT AIN'T SOUL delivers on many levels\, capturing the funky essence of legends like the Rev Al Green\, The Isley Brothers\, Wilson Pickett\, Sly and The Family Stone\, and The Meters while also paying homage to the king of"Irish Soul\," the one and only Van Morrison. SAY IT AIN'T SOUL's Brad Reuber [Sacre Blues\, Gary and the Gators] on drums & vocals\, Dan Braun [The Soapbox Project] on bass\, and John Swamy [Happy Ashtray\, Beautiful Buzz] on guitar and vocals combine forces to make you feel the beat and show you an undeniably funky good time.
X-ALT-DESC;FMTTYPE=text/html:<div class="_63eu" style="box-sizing: border-box\; font-size: 14px\; max-height: 260px\; overflow: hidden\; padding: 12px\; overflow-wrap: break-word\; font-family: Helvetica\, Arial\, sans-serif\; color: rgb(29\, 33\, 41)\;">\n<div class="_63ew" data-testid="event-permalink-details" style="white-space: pre-wrap\; font-family: inherit\;"><span style="font-family: inherit\;">From the purple quartzite bluffs of Baraboo\, WI comes a new funk/soul group that puts the &quot\;power&quot\; in power trio: SAY IT AIN&#39\;T SOUL. Plundering the deep mine of late 60s &amp\; early 70s funk\, soul and R&amp\;B&hellip\; SAY IT AIN&#39\;T SOUL delivers on many levels\, capturing the funky essence of legends like the Rev Al Green\, The Isley Brothers\, Wilson Pickett\, Sly and The Family Stone\, and The Meters while also paying homage to the king of&quot\;Irish Soul\,&quot\; the one and only Van Morrison. SAY IT AIN&#39\;T SOUL&#39\;s Brad Reuber [Sacre Blues\, Gary and the Gators] on drums &amp\; vocals\, Dan Braun [The Soapbox Project] on bass\, and John Swamy [Happy Ashtray\, Beautiful Buzz] on guitar and vocals combine forces to make you feel the beat and show you an undeniably funky good time.</span></div>\n\n<div>&nbsp\;</div>\n</div>\n
LOCATION:Vintage Brewing Co. 600 Water St. Sauk City\, WI 53583
UID:e.1184.22561
SEQUENCE:3
DTSTAMP:20260423T154250Z
URL:http://members.saukprairie.com/events/details/say-it-ain-t-soul-22561
END:VEVENT

END:VCALENDAR
