BEGIN:VCALENDAR
VERSION:2.0
PRODID:-//ChamberMaster//Event Calendar 2.0//EN
METHOD:PUBLISH
X-PUBLISHED-TTL:P3D
REFRESH-INTERVAL:P3D
CALSCALE:GREGORIAN
BEGIN:VEVENT
DTSTART:20161124T010000Z
DTEND:20161124T030000Z
X-MICROSOFT-CDO-ALLDAYEVENT:FALSE
SUMMARY:Say It Ain't Soul at the Woodshed Ale House
DESCRIPTION:From the purple quartzite bluffs of Baraboo\, WI comes a new funk/soul group that puts the "power" in power trio: SAY IT AIN'T SOUL. Plundering the deep mine of late 60s & early 70s funk\, soul and R&B  SAY IT AIN'T SOUL delivers on many levels\, capturing the funky essence of legends like the Rev Al Green\, The Isley Brothers\, Wilson Pickett\, Sly and The Family Stone\, and The Meters while also paying homage to the king of"Irish Soul\," the one and only Van Morrison. SAY IT AIN'T SOUL's Brad Reuber [Sacre Blues\, Gary and the Gators] on drums & vocals\, Dan Braun [The Soapbox Project] on bass\, and John Swamy [Happy Ashtray\, Beautiful Buzz] on guitar and vocals combine forces to make you feel the beat and show you an undeniably funky good time.
X-ALT-DESC;FMTTYPE=text/html:<span style="color: rgb(75\, 79\, 86)\; font-family: helvetica\, arial\, sans-serif\; font-size: 14px\;">From the purple quartzite bluffs of Baraboo\, WI comes a new funk/soul group that puts the &quot\;power&quot\; in power trio: SAY IT AIN&#39\;T SOUL. Plundering the deep mine of late 60s &amp\; early 70s funk\, soul and R&amp\;B&hellip\; SAY IT AIN&#39\;T SOUL delivers on many levels\, capturing the funky essence of legends like the Rev Al Green\, The Isley Brothers\, Wilson Pickett\, Sly and The Family Stone\, and The Meters while also paying homage to the king of&quot\;Irish Soul\,&quot\; the one and only Van Morrison. SAY IT AIN&#39\;T SOUL&#39\;s Brad Reuber [Sacre Blues\, Gary and the Gators] on drums &amp\; vocals\, Dan Braun [The Soapbox Project] on bass\, and John Swamy [Happy Ashtray\, Beautiful Buzz] on guitar and vocals combine forces to make you feel the beat and show you an undeniably funky good time.</span>
LOCATION:Woodshed Ale House 101 Jackson Street Sauk City\, WI 53583
UID:e.1184.9415
SEQUENCE:3
DTSTAMP:20260425T161504Z
URL:http://members.saukprairie.com/events/details/say-it-ain-t-soul-at-the-woodshed-ale-house-9415
END:VEVENT

END:VCALENDAR
