BEGIN:VCALENDAR
VERSION:2.0
PRODID:-//ChamberMaster//Event Calendar 2.0//EN
METHOD:PUBLISH
X-PUBLISHED-TTL:P3D
REFRESH-INTERVAL:P3D
CALSCALE:GREGORIAN
BEGIN:VEVENT
DTSTART;VALUE=DATE:20240127
DTEND;VALUE=DATE:20240128
TRANSP:TRANSPARENT
X-MICROSOFT-CDO-ALLDAYEVENT:TRUE
SUMMARY:Schoepp's Crystal Lake Fisheree
DESCRIPTION:Brace yourself\, this ones a long one.......\n\n\n\nThe 2024 Fisheree Fundraiser is this weekend and we can't wait to see everyone!!\n\n\n\nFISHEREE GENERAL INFORMATION: **Please share with your friends and family\, even if they don't fish!\n\n\n\nOpen to Crystal Lake and Fish/Mudd Lake again this year!\n\n\n\nWe have ICE!! Measurements on Crystal are showing a minimum of 10"\, but many seeing 12-14". Fish/Mudd Lake last reports have shown 7-9". Although we are looking at some warmer days this week we fully anticipate the ice will be thick enough for UTV/ATV and foot traffic.\n\n** As always being out on the ice is at your own risk!\n\n** Stay clear of the Crystal Lake Campground boat ramp\, it does have some open water around it due to water that is draining over there.\n\n\n\nRegistration is open NOW - $10 per person (non-refundable\, after all it is for a great cause!) ***ONLY those registered will have their name entered in the drawing for the Auger***\n\nIn person at Schoepp's during bar hours Thursday and Friday we open at 4pm\, Saturday morning we will be open at 5:30am\n\nOr via\n\nVenmo @schoeppsfisheree - last 4 of phone = 5606 or\n\nPayPal schoeppsfisheree@gmail.com\n\n***Please use friends and family option so there are not any fees subtracted\n\n***Include first and last name for each person fishing and at least one phone number\n\n\n\n***Even if you pre-register you will have to stop and grab your wristband from Schoepp's between 5:30am and 2:15pm Saturday before you can weigh in any fish.\n\n\n\n***Don't forget to drop off your food/non-perishable item (see needed items at the end of this post) or cash donations to enter the whisker fish category!\n\nTIIMELINE: (subject to change so watch here for any updates)\n\n\n\nThursday Jan. 25th : 4pm   9pm at Schoepp's:\n\nRegistration in person and 50/50 tickets available to purchase (you do not need to be present to win on Saturday)\n\n\n\nFriday Jan. 26th: 4pm   9pm at Schoepp's:\n\nRegistration in person\, 50/50 tickets available and Raffle tickets available for the basket raffles. (Basket Raffles will be on display in white tent outside of Schoepp's) We have had an incredibly generous amount (90+) of items donated and still more coming in. Each basket is valued at a minimum of $50\, but many over $100+\n\nYou don't have to be present to win\, so if you cannot make it Saturday come on out Friday night!\n\n\n\nSaturday Jan. 28th: At Schoepp's\n\n5:30am Registration and Raffles open\, pick up your wristbands and drop off your donations food pantry item/cash for entry into whisker fish category\n\n***We will have a marked 10 minute parking zone by porta potty/garage area for those who just need to run in and register\, grab some food/drink or do a quick weigh in.\n\nBar will be open and will have coffee\, hot chocolate and apple cider along with Bloody Mary's and anything else you may want.\n\n7am - Start fishing *License required\n\n8am   3pm-ish Food available out by garage. 6:8 is handling all of the food   brats\, hot dogs and walking tacos available\n\n2:30pm Weigh In deadline   weigh in tent is across from entrance to the bar near the gas tank (must be in line by 2:30 or will not be allowed to weigh in) **Winners are determined by weight and length will be use in event of a tie breaker **Trophies for Top 3 Bass\, Pike and Bags of Panfish (5) (bluegill\, perch\, crappies) Trophy also for biggest Sh!t Fish and Biggest Whisker Fish (reminder\, must make a donation to be entered in Whisker Fish category)\n\n2:30 Raffles end and winners drawn **Raffle tent will be closed at this time until after winners announced\n\n3:00 Announce winners of fisheree\, 50/50s and bucket raffles   winners for bucket raffles will be posted outside of bar\, outside of raffle tent and on patio   please pick up all bucket raffle items by 4:00 if you are able to. If winners are not present we will make calls to winners to arrange pick up.\n\n3:30   7(?) DJ/Karaoke with Tim\n\n\n\nDETAILS\, PARKING AND OTHER MISCELLANEOUS INFORMATION:\n\n\n\nIf you pre-ordered clothing/hats\, you can pick them up at the bar during regular bar hours starting Thursday after 6pm. Thank you for your order!\n\n**We will also have a limited supply of fisheree tumblers for sale at the bar\, they are $10.\n\n\n\nThere might be some confusion on our Whisker and Sh!t fish categories. To clarify\, the whisker fish trophy contest requires a donation to be made to enter. You can donate cash\, non perishable items\, or anything listed in the list below. We will accept either a catfish or bullhead for this category. The sh!t fish category will reward a fabulous trophy for the largest rough fish registered. For example this would be carp\, sucker\, or white/yellow bass.\n\n\n\nThe 1st LEGAL bass and pike registered will be given $50 in Chamber Bucks.\n\n\n\nLots of people have been asking about size limits so here are a few rules to follow when fishing!\n\nIf you are fishing Crystal: Bass 14'' and Northern 26''\n\nIf you're fishing on Fish/Mudd: Bass 18" and Northern 26"\n\nThere are no size limits for catfish or rough fish.\n\nFish do not need to be kept alive to register\, ALTHOUGH we strongly encourage anglers to bring coolers for transporting live fish to weigh in\, otherwise we are able to respectfully utilize any unwanted fish.\n\n\n\nPARKING:\n\nYes\, parking is limited with the snow right now\, but it is getting better and we hope over the next couple of days it continues to improve\, but of course that will be weather dependent. We will update as things change and a final update will be posted late Friday night or very early Saturday morning. We are going to try and do the same as last year. You can park within the park as long as we stick to one side of the road and there is enough room for people to get past you. You can park up on Schoepp Road\, but stick to one side of the road. Note\, the road was raised a bit this past summer so the ditches are a little steeper than last year\, so please use caution. There is a flat area up above the porta potty by the "Old Style" sign. We suggest only trucks park up in this area and please watch around you and park so that you are not blocking anyone else in or blocking anyone from getting out. You can always drop your party and equipment off down below and then one person go up and park. Like last year we will do our best to have people out running around helping shuttle. You can message us here on Facebook or text Tammy at 608-850-3899 if you need help.\n\n\n\nThe funds raised will be donated to 3 organizations that are great resources for our community\; 6:8\, The Good Neighbor Clinic and Eric & CO. Seize EPILEPSY (new this year)! We wouldn't be able to do this if it wasn't for your participation\, these 3 organizations are very appreciative of the funds we donate! With your support we can help make a difference!\n\n\n\nA little about these organizations ..\n\n*6:8 has a strong commitment to working with people who are living in poverty. 6:8 believes if we care enough to walk alongside someone in need and want to invest in their life rather than just say "Here's a pile of food that will get you by for the next week   come back again\," then lives will be transformed. We say\, "You know what\, I want you not to be hungry\, but I also want you to know that you can make a difference in your life.\n\n*The Good Neighbor Clinic is a free clinic. The clinic was started in 1999 by Dr. Haakon Carlson. Our mission is to improve the health and lives of people who face financial\, cultural or language barriers that keep them from accessing quality healthcare.\n\n*Eric & CO. Seize EPILEPSY is a brand new nonprofit organization! They are dedicated to helping those living with epilepsy by providing resources to individuals and their families. Our very own committee members\, Mike and Val Ash recently found out their son\, Eric\, has epilepsy which prompted them to start this non-profit. You can find them on Facebook.\n\n\n\nWhisker Fish entry donation ideas for 6:8\, we welcome all non-perishable food donations\, of course cash is always welcome too!\n\n\n\nGeneral\n\n  55 gallon Recycle bags\n\n  Liquid Laundry Detergent\n\n  Dishwasher Soap pods\n\n  All-purpose cleaner for mopping floors (i.e. Pine Sol)\n\nKitchen\n\n  Gallon Ziplock Freezer bags\n\n  Canned tomatoes\n\n  Canned chopped clams\n\n  Paper towels\n\n  White distilled vinegar\n\n  Ammonia\n\nChildcare Room\n\n  Legos\n\n  Middle School and High School Christian novels (see Amazon wishlist).\n\n\n\n6:8's Office\n\n \n\n  Forever Stamps\n\n  Post Card Stamps\n\n  3M Scotch Tape\n\n  Scrap Printer Paper (One Side blank)\n\n6:8 Garden\n\n \n\n  Sunscreen\n\n  Blueberry Bushes\n\n\n\n***We will thank everyone in detail later\, but we want to shout out a preliminary thank you to all who have registered already and all who have donated so generously (be it cash donations or raffle items or donations of your time)! Thank you also to Jeff Sigrist for besting his best with the incredible trophies this year!!!\n\nWe have an amazing committee working very hard together to put on this incredible event and we can't wait to see everyone Saturday!
X-ALT-DESC;FMTTYPE=text/html:<div class="xdj266r x11i5rnm xat24cr x1mh8g0r x1vvkbs x126k92a" color:="" font-size:="" segoe="" style="margin: 0px\; overflow-wrap: break-word\; white-space-collapse: preserve\; font-family: " ui="">\n<div dir="auto" style="font-family: inherit\;">Brace yourself\, this ones a long one.......</div>\n</div>\n\n<div class="x11i5rnm xat24cr x1mh8g0r x1vvkbs xtlvy1s x126k92a" color:="" font-size:="" segoe="" style="margin: 0.5em 0px 0px\; overflow-wrap: break-word\; white-space-collapse: preserve\; font-family: " ui="">\n<div dir="auto" style="font-family: inherit\;">The 2024 Fisheree Fundraiser is this weekend and we can&rsquo\;t wait to see everyone!!</div>\n</div>\n\n<div class="x11i5rnm xat24cr x1mh8g0r x1vvkbs xtlvy1s x126k92a" color:="" font-size:="" segoe="" style="margin: 0.5em 0px 0px\; overflow-wrap: break-word\; white-space-collapse: preserve\; font-family: " ui="">\n<div dir="auto" style="font-family: inherit\;">FISHEREE GENERAL INFORMATION: **Please share with your friends and family\, even if they don&rsquo\;t fish!</div>\n</div>\n\n<div class="x11i5rnm xat24cr x1mh8g0r x1vvkbs xtlvy1s x126k92a" color:="" font-size:="" segoe="" style="margin: 0.5em 0px 0px\; overflow-wrap: break-word\; white-space-collapse: preserve\; font-family: " ui="">\n<div dir="auto" style="font-family: inherit\;">Open to Crystal Lake and Fish/Mudd Lake again this year!</div>\n</div>\n\n<div class="x11i5rnm xat24cr x1mh8g0r x1vvkbs xtlvy1s x126k92a" color:="" font-size:="" segoe="" style="margin: 0.5em 0px 0px\; overflow-wrap: break-word\; white-space-collapse: preserve\; font-family: " ui="">\n<div dir="auto" style="font-family: inherit\;">We have ICE!! Measurements on Crystal are showing a minimum of 10&rdquo\;\, but many seeing 12-14&rdquo\;. Fish/Mudd Lake last reports have shown 7-9&rdquo\;. Although we are looking at some warmer days this week we fully anticipate the ice will be thick enough for UTV/ATV and foot traffic.</div>\n\n<div dir="auto" style="font-family: inherit\;">** As always being out on the ice is at your own risk!</div>\n\n<div dir="auto" style="font-family: inherit\;">** Stay clear of the Crystal Lake Campground boat ramp\, it does have some open water around it due to water that is draining over there.</div>\n</div>\n\n<div class="x11i5rnm xat24cr x1mh8g0r x1vvkbs xtlvy1s x126k92a" color:="" font-size:="" segoe="" style="margin: 0.5em 0px 0px\; overflow-wrap: break-word\; white-space-collapse: preserve\; font-family: " ui="">\n<div dir="auto" style="font-family: inherit\;">Registration is open NOW - $10 per person (non-refundable\, after all it is for a great cause!) ***ONLY those registered will have their name entered in the drawing for the Auger***</div>\n\n<div dir="auto" style="font-family: inherit\;">In person at Schoepp&#39\;s during bar hours Thursday and Friday we open at 4pm\, Saturday morning we will be open at 5:30am</div>\n\n<div dir="auto" style="font-family: inherit\;">Or via</div>\n\n<div dir="auto" style="font-family: inherit\;">Venmo @schoeppsfisheree - last 4 of phone = 5606 or</div>\n\n<div dir="auto" style="font-family: inherit\;">PayPal schoeppsfisheree@gmail.com</div>\n\n<div dir="auto" style="font-family: inherit\;">***Please use friends and family option so there are not any fees subtracted</div>\n\n<div dir="auto" style="font-family: inherit\;">***Include first and last name for each person fishing and at least one phone number</div>\n</div>\n\n<div class="x11i5rnm xat24cr x1mh8g0r x1vvkbs xtlvy1s x126k92a" color:="" font-size:="" segoe="" style="margin: 0.5em 0px 0px\; overflow-wrap: break-word\; white-space-collapse: preserve\; font-family: " ui="">\n<div dir="auto" style="font-family: inherit\;">***Even if you pre-register you will have to stop and grab your wristband from Schoepp&#39\;s between 5:30am and 2:15pm Saturday before you can weigh in any fish.</div>\n</div>\n\n<div class="x11i5rnm xat24cr x1mh8g0r x1vvkbs xtlvy1s x126k92a" color:="" font-size:="" segoe="" style="margin: 0.5em 0px 0px\; overflow-wrap: break-word\; white-space-collapse: preserve\; font-family: " ui="">\n<div dir="auto" style="font-family: inherit\;">***Don&#39\;t forget to drop off your food/non-perishable item (see needed items at the end of this post) or cash donations to enter the whisker fish category!\n<div class="x11i5rnm xat24cr x1mh8g0r x1vvkbs xtlvy1s x126k92a" color:="" font-size:="" segoe="" style="margin: 0.5em 0px 0px\; overflow-wrap: break-word\; white-space-collapse: preserve\; font-family: " ui="">\n<div dir="auto" style="font-family: inherit\;">TIIMELINE: (subject to change so watch here for any updates)</div>\n</div>\n\n<div class="x11i5rnm xat24cr x1mh8g0r x1vvkbs xtlvy1s x126k92a" color:="" font-size:="" segoe="" style="margin: 0.5em 0px 0px\; overflow-wrap: break-word\; white-space-collapse: preserve\; font-family: " ui="">\n<div dir="auto" style="font-family: inherit\;">Thursday Jan. 25th : 4pm &ndash\; 9pm at Schoepp&#39\;s:</div>\n\n<div dir="auto" style="font-family: inherit\;">Registration in person and 50/50 tickets available to purchase (you do not need to be present to win on Saturday)</div>\n</div>\n\n<div class="x11i5rnm xat24cr x1mh8g0r x1vvkbs xtlvy1s x126k92a" color:="" font-size:="" segoe="" style="margin: 0.5em 0px 0px\; overflow-wrap: break-word\; white-space-collapse: preserve\; font-family: " ui="">\n<div dir="auto" style="font-family: inherit\;">Friday Jan. 26th: 4pm &ndash\; 9pm at Schoepp&#39\;s:</div>\n\n<div dir="auto" style="font-family: inherit\;">Registration in person\, 50/50 tickets available and Raffle tickets available for the basket raffles. (Basket Raffles will be on display in white tent outside of Schoepp&#39\;s) We have had an incredibly generous amount (90+) of items donated and still more coming in. Each basket is valued at a minimum of $50\, but many over $100+</div>\n\n<div dir="auto" style="font-family: inherit\;">You don&#39\;t have to be present to win\, so if you cannot make it Saturday come on out Friday night!</div>\n</div>\n\n<div class="x11i5rnm xat24cr x1mh8g0r x1vvkbs xtlvy1s x126k92a" color:="" font-size:="" segoe="" style="margin: 0.5em 0px 0px\; overflow-wrap: break-word\; white-space-collapse: preserve\; font-family: " ui="">\n<div dir="auto" style="font-family: inherit\;">Saturday Jan. 28th: At Schoepp&#39\;s</div>\n\n<div dir="auto" style="font-family: inherit\;">5:30am Registration and Raffles open\, pick up your wristbands and drop off your donations food pantry item/cash for entry into whisker fish category</div>\n\n<div dir="auto" style="font-family: inherit\;">***We will have a marked 10 minute parking zone by porta potty/garage area for those who just need to run in and register\, grab some food/drink or do a quick weigh in.</div>\n\n<div dir="auto" style="font-family: inherit\;">Bar will be open and will have coffee\, hot chocolate and apple cider along with Bloody Mary&rsquo\;s and anything else you may want.</div>\n\n<div dir="auto" style="font-family: inherit\;">7am - Start fishing *License required</div>\n\n<div dir="auto" style="font-family: inherit\;">8am &ndash\; 3pm-ish Food available out by garage. 6:8 is handling all of the food &ndash\; brats\, hot dogs and walking tacos available</div>\n\n<div dir="auto" style="font-family: inherit\;">2:30pm Weigh In deadline &ndash\; weigh in tent is across from entrance to the bar near the gas tank (must be in line by 2:30 or will not be allowed to weigh in) **Winners are determined by weight and length will be use in event of a tie breaker **Trophies for Top 3 Bass\, Pike and Bags of Panfish (5) (bluegill\, perch\, crappies) Trophy also for biggest Sh!t Fish and Biggest Whisker Fish (reminder\, must make a donation to be entered in Whisker Fish category)</div>\n\n<div dir="auto" style="font-family: inherit\;">2:30 Raffles end and winners drawn **Raffle tent will be closed at this time until after winners announced</div>\n\n<div dir="auto" style="font-family: inherit\;">3:00 Announce winners of fisheree\, 50/50s and bucket raffles &ndash\; winners for bucket raffles will be posted outside of bar\, outside of raffle tent and on patio &ndash\; please pick up all bucket raffle items by 4:00 if you are able to. If winners are not present we will make calls to winners to arrange pick up.</div>\n\n<div dir="auto" style="font-family: inherit\;">3:30 &ndash\; 7(?) DJ/Karaoke with Tim</div>\n</div>\n\n<div class="x11i5rnm xat24cr x1mh8g0r x1vvkbs xtlvy1s x126k92a" color:="" font-size:="" segoe="" style="margin: 0.5em 0px 0px\; overflow-wrap: break-word\; white-space-collapse: preserve\; font-family: " ui="">\n<div dir="auto" style="font-family: inherit\;">DETAILS\, PARKING AND OTHER MISCELLANEOUS INFORMATION:</div>\n</div>\n\n<div class="x11i5rnm xat24cr x1mh8g0r x1vvkbs xtlvy1s x126k92a" color:="" font-size:="" segoe="" style="margin: 0.5em 0px 0px\; overflow-wrap: break-word\; white-space-collapse: preserve\; font-family: " ui="">\n<div dir="auto" style="font-family: inherit\;">If you pre-ordered clothing/hats\, you can pick them up at the bar during regular bar hours starting Thursday after 6pm. Thank you for your order!</div>\n\n<div dir="auto" style="font-family: inherit\;">**We will also have a limited supply of fisheree tumblers for sale at the bar\, they are $10.</div>\n</div>\n\n<div class="x11i5rnm xat24cr x1mh8g0r x1vvkbs xtlvy1s x126k92a" color:="" font-size:="" segoe="" style="margin: 0.5em 0px 0px\; overflow-wrap: break-word\; white-space-collapse: preserve\; font-family: " ui="">\n<div dir="auto" style="font-family: inherit\;">There might be some confusion on our Whisker and Sh!t fish categories. To clarify\, the whisker fish trophy contest requires a donation to be made to enter. You can donate cash\, non perishable items\, or anything listed in the list below. We will accept either a catfish or bullhead for this category. The sh!t fish category will reward a fabulous trophy for the largest rough fish registered. For example this would be carp\, sucker\, or white/yellow bass.</div>\n</div>\n\n<div class="x11i5rnm xat24cr x1mh8g0r x1vvkbs xtlvy1s x126k92a" color:="" font-size:="" segoe="" style="margin: 0.5em 0px 0px\; overflow-wrap: break-word\; white-space-collapse: preserve\; font-family: " ui="">\n<div dir="auto" style="font-family: inherit\;">The 1st LEGAL bass and pike registered will be given $50 in Chamber Bucks.</div>\n</div>\n\n<div class="x11i5rnm xat24cr x1mh8g0r x1vvkbs xtlvy1s x126k92a" color:="" font-size:="" segoe="" style="margin: 0.5em 0px 0px\; overflow-wrap: break-word\; white-space-collapse: preserve\; font-family: " ui="">\n<div dir="auto" style="font-family: inherit\;">Lots of people have been asking about size limits so here are a few rules to follow when fishing!</div>\n\n<div dir="auto" style="font-family: inherit\;">If you are fishing Crystal: Bass 14&#39\;&#39\; and Northern 26&#39\;&#39\;</div>\n\n<div dir="auto" style="font-family: inherit\;">If you&#39\;re fishing on Fish/Mudd: Bass 18&quot\; and Northern 26&quot\;</div>\n\n<div dir="auto" style="font-family: inherit\;">There are no size limits for catfish or rough fish.</div>\n\n<div dir="auto" style="font-family: inherit\;">Fish do not need to be kept alive to register\, ALTHOUGH we strongly encourage anglers to bring coolers for transporting live fish to weigh in\, otherwise we are able to respectfully utilize any unwanted fish.</div>\n</div>\n\n<div class="x11i5rnm xat24cr x1mh8g0r x1vvkbs xtlvy1s x126k92a" color:="" font-size:="" segoe="" style="margin: 0.5em 0px 0px\; overflow-wrap: break-word\; white-space-collapse: preserve\; font-family: " ui="">\n<div dir="auto" style="font-family: inherit\;">PARKING:</div>\n\n<div dir="auto" style="font-family: inherit\;">Yes\, parking is limited with the snow right now\, but it is getting better and we hope over the next couple of days it continues to improve\, but of course that will be weather dependent. We will update as things change and a final update will be posted late Friday night or very early Saturday morning. We are going to try and do the same as last year. You can park within the park as long as we stick to one side of the road and there is enough room for people to get past you. You can park up on Schoepp Road\, but stick to one side of the road. Note\, the road was raised a bit this past summer so the ditches are a little steeper than last year\, so please use caution. There is a flat area up above the porta potty by the &ldquo\;Old Style&rdquo\; sign. We suggest only trucks park up in this area and please watch around you and park so that you are not blocking anyone else in or blocking anyone from getting out. You can always drop your party and equipment off down below and then one person go up and park. Like last year we will do our best to have people out running around helping shuttle. You can message us here on Facebook or text Tammy at 608-850-3899 if you need help.</div>\n</div>\n\n<div class="x11i5rnm xat24cr x1mh8g0r x1vvkbs xtlvy1s x126k92a" color:="" font-size:="" segoe="" style="margin: 0.5em 0px 0px\; overflow-wrap: break-word\; white-space-collapse: preserve\; font-family: " ui="">\n<div dir="auto" style="font-family: inherit\;">The funds raised will be donated to 3 organizations that are great resources for our community\; 6:8\, The Good Neighbor Clinic and Eric &amp\; CO. Seize EPILEPSY (new this year)! We wouldn&#39\;t be able to do this if it wasn&#39\;t for your participation\, these 3 organizations are very appreciative of the funds we donate! With your support we can help make a difference!</div>\n</div>\n\n<div class="x11i5rnm xat24cr x1mh8g0r x1vvkbs xtlvy1s x126k92a" color:="" font-size:="" segoe="" style="margin: 0.5em 0px 0px\; overflow-wrap: break-word\; white-space-collapse: preserve\; font-family: " ui="">\n<div dir="auto" style="font-family: inherit\;">A little about these organizations&hellip\;..</div>\n\n<div dir="auto" style="font-family: inherit\;">*6:8 has a strong commitment to working with people who are living in poverty. 6:8 believes if we care enough to walk alongside someone in need and want to invest in their life rather than just say &ldquo\;Here&rsquo\;s a pile of food that will get you by for the next week &ndash\; come back again\,&rdquo\; then lives will be transformed. We say\, &ldquo\;You know what\, I want you not to be hungry\, but I also want you to know that you can make a difference in your life.</div>\n\n<div dir="auto" style="font-family: inherit\;">*The Good Neighbor Clinic is a free clinic. The clinic was started in 1999 by Dr. Haakon Carlson. Our mission is to improve the health and lives of people who face financial\, cultural or language barriers that keep them from accessing quality healthcare.</div>\n\n<div dir="auto" style="font-family: inherit\;">*Eric &amp\; CO. Seize EPILEPSY is a brand new nonprofit organization! They are dedicated to helping those living with epilepsy by providing resources to individuals and their families. Our very own committee members\, Mike and Val Ash recently found out their son\, Eric\, has epilepsy which prompted them to start this non-profit. You can find them on Facebook.</div>\n</div>\n\n<div class="x11i5rnm xat24cr x1mh8g0r x1vvkbs xtlvy1s x126k92a" color:="" font-size:="" segoe="" style="margin: 0.5em 0px 0px\; overflow-wrap: break-word\; white-space-collapse: preserve\; font-family: " ui="">\n<div dir="auto" style="font-family: inherit\;">Whisker Fish entry donation ideas for 6:8\, we welcome all non-perishable food donations\, of course cash is always welcome too!</div>\n</div>\n\n<div class="x11i5rnm xat24cr x1mh8g0r x1vvkbs xtlvy1s x126k92a" color:="" font-size:="" segoe="" style="margin: 0.5em 0px 0px\; overflow-wrap: break-word\; white-space-collapse: preserve\; font-family: " ui="">\n<div dir="auto" style="font-family: inherit\;">General</div>\n\n<div dir="auto" style="font-family: inherit\;">&#61607\; 55 gallon Recycle bags</div>\n\n<div dir="auto" style="font-family: inherit\;">&#61607\; Liquid Laundry Detergent</div>\n\n<div dir="auto" style="font-family: inherit\;">&#61607\; Dishwasher Soap pods</div>\n\n<div dir="auto" style="font-family: inherit\;">&#61607\; All-purpose cleaner for mopping floors (i.e. Pine Sol)</div>\n\n<div dir="auto" style="font-family: inherit\;">Kitchen</div>\n\n<div dir="auto" style="font-family: inherit\;">&#61607\; Gallon Ziplock Freezer bags</div>\n\n<div dir="auto" style="font-family: inherit\;">&#61607\; Canned tomatoes</div>\n\n<div dir="auto" style="font-family: inherit\;">&#61607\; Canned chopped clams</div>\n\n<div dir="auto" style="font-family: inherit\;">&#61607\; Paper towels</div>\n\n<div dir="auto" style="font-family: inherit\;">&#61607\; White distilled vinegar</div>\n\n<div dir="auto" style="font-family: inherit\;">&#61607\; Ammonia</div>\n\n<div dir="auto" style="font-family: inherit\;">Childcare Room</div>\n\n<div dir="auto" style="font-family: inherit\;">&#61607\; Legos</div>\n\n<div dir="auto" style="font-family: inherit\;">&#61607\; Middle School and High School Christian novels (see Amazon wishlist).</div>\n</div>\n\n<div class="x11i5rnm xat24cr x1mh8g0r x1vvkbs xtlvy1s x126k92a" color:="" font-size:="" segoe="" style="margin: 0.5em 0px 0px\; overflow-wrap: break-word\; white-space-collapse: preserve\; font-family: " ui="">\n<div dir="auto" style="font-family: inherit\;">6:8&#39\;s Office</div>\n\n<div dir="auto" style="font-family: inherit\;">&#61607\;</div>\n\n<div dir="auto" style="font-family: inherit\;">&#61607\; Forever Stamps</div>\n\n<div dir="auto" style="font-family: inherit\;">&#61607\; Post Card Stamps</div>\n\n<div dir="auto" style="font-family: inherit\;">&#61607\; 3M Scotch Tape</div>\n\n<div dir="auto" style="font-family: inherit\;">&#61607\; Scrap Printer Paper (One Side blank)</div>\n\n<div dir="auto" style="font-family: inherit\;">6:8 Garden</div>\n\n<div dir="auto" style="font-family: inherit\;">&#61607\;</div>\n\n<div dir="auto" style="font-family: inherit\;">&#61607\; Sunscreen</div>\n\n<div dir="auto" style="font-family: inherit\;">&#61607\; Blueberry Bushes</div>\n</div>\n\n<div class="x11i5rnm xat24cr x1mh8g0r x1vvkbs xtlvy1s x126k92a" color:="" font-size:="" segoe="" style="margin: 0.5em 0px 0px\; overflow-wrap: break-word\; white-space-collapse: preserve\; font-family: " ui="">\n<div dir="auto" style="font-family: inherit\;">***We will thank everyone in detail later\, but we want to shout out a preliminary thank you to all who have registered already and all who have donated so generously (be it cash donations or raffle items or donations of your time)! Thank you also to Jeff Sigrist for besting his best with the incredible trophies this year!!!</div>\n\n<div dir="auto" style="font-family: inherit\;">We have an amazing committee working very hard together to put on this incredible event and we can&#39\;t wait to see everyone Saturday!</div>\n</div>\n</div>\n</div>\n
LOCATION:Schoepp's Cottonwood Resort
UID:e.1184.31530
SEQUENCE:3
DTSTAMP:20260420T020414Z
URL:http://members.saukprairie.com/events/details/schoepp-s-crystal-lake-fisheree-31530
END:VEVENT

END:VCALENDAR
