BEGIN:VCALENDAR
VERSION:2.0
PRODID:-//ChamberMaster//Event Calendar 2.0//EN
METHOD:PUBLISH
X-PUBLISHED-TTL:P3D
REFRESH-INTERVAL:P3D
CALSCALE:GREGORIAN
BEGIN:VEVENT
DTSTART;VALUE=DATE:20221010
DTEND;VALUE=DATE:20221011
TRANSP:TRANSPARENT
X-MICROSOFT-CDO-ALLDAYEVENT:TRUE
SUMMARY:Science Fest Kits released
DESCRIPTION:Swing by the library and grab a themed glass craft bag to create at home. Contains an activity\, all necessary supplies and instructions. Held as part of the Wisconsin Science Festival. Limited to one per child while supplies last.
X-ALT-DESC;FMTTYPE=text/html:Swing by the library and grab a themed glass craft bag to create at home. Contains an activity\, all necessary supplies and instructions. Held as part of the Wisconsin Science Festival. Limited to one per child while supplies last.
LOCATION:615 Phillips Blvd\, Sauk City\, WI 53583
UID:e.1184.28716
SEQUENCE:3
DTSTAMP:20260421T044624Z
URL:http://members.saukprairie.com/events/details/science-fest-kits-released-28716
END:VEVENT

END:VCALENDAR
