BEGIN:VCALENDAR
VERSION:2.0
PRODID:-//ChamberMaster//Event Calendar 2.0//EN
METHOD:PUBLISH
X-PUBLISHED-TTL:P3D
REFRESH-INTERVAL:P3D
CALSCALE:GREGORIAN
BEGIN:VEVENT
DTSTART:20180322T223000Z
DTEND:20180323T020000Z
X-MICROSOFT-CDO-ALLDAYEVENT:FALSE
SUMMARY:SCREENAGERS
DESCRIPTION:Free movie screening with optional discussion to follow\n\n\n\nThis project is funded in part by a Healthy Life Initiative Grant from the Sauk Prairie Healthcare Foundation. Recommended ages 10 & up.
X-ALT-DESC;FMTTYPE=text/html:Free movie screening with optional discussion to follow<br />\n<br />\nThis project is funded in part by a Healthy Life Initiative Grant from the Sauk Prairie Healthcare Foundation. Recommended ages 10 &amp\; up.
LOCATION:Venue: River Arts Center\, 105 9thSt.\, Prairie du Sac
UID:e.1184.14681
SEQUENCE:3
DTSTAMP:20260424T143539Z
URL:http://members.saukprairie.com/events/details/screenagers-14681
END:VEVENT

END:VCALENDAR
