BEGIN:VCALENDAR
VERSION:2.0
PRODID:-//ChamberMaster//Event Calendar 2.0//EN
METHOD:PUBLISH
X-PUBLISHED-TTL:P3D
REFRESH-INTERVAL:P3D
CALSCALE:GREGORIAN
BEGIN:VEVENT
DTSTART:20241118T230000Z
DTEND:20241119T003000Z
X-MICROSOFT-CDO-ALLDAYEVENT:FALSE
SUMMARY:Sea Glass Holiday Tree Workshop
DESCRIPTION:Offering our very popular & fun Sea Glass Holiday Tree once again this year. This will be the only class available though due to so many others we want to offer!\n\n \n\nWhat to expect:\n\n\n	full instructions\n	materials to create your very own holiday tree\n	will be using hot glue throughout entire project\n\n\nDrinks will be available along with meeting new friends and having fun. You will be able to take your crafting adventure with you at the end of the night\n\n \n\nSign up is easy by just clicking on ticket link\, $50 per person\n\n\n\nAny questions please email to countrysassgifts@gmail.com Deadline to Signup is Nov 9th
X-ALT-DESC;FMTTYPE=text/html:<div>Offering our very popular &amp\; fun Sea Glass Holiday Tree once again this year. This will be the only class available though due to so many others we want to offer!<br />\n&nbsp\;</div>\n\n<div>What to expect:</div>\n\n<ul>\n	<li>full instructions</li>\n	<li>materials to create your very own holiday tree</li>\n	<li>will be using hot glue throughout entire project</li>\n</ul>\n\n<div>Drinks will be available along with meeting new friends and having fun. You will be able to take your crafting adventure with you at the end of the night<br />\n&nbsp\;</div>\n\n<div>Sign up is easy by just clicking on <u><strong><a href="https://checkout.square.site/merchant/MLFY3M2ABVQQF/checkout/YFOH7NVA753PYQ4IOWCPF4BR?fbclid=IwY2xjawGR35dleHRuA2FlbQIxMAABHbObcPs5hlnI9p-h2LbhPbZh1lUCPZ-KTYUpEbjGYxlEGJ-aJ6a0v5DdDg_aem_opfIzSppp75DyVZ0gtwGEw">ticket link</a></strong></u>\, $50 per person<br />\n<br />\nAny questions please email to countrysassgifts@gmail.com Deadline to Signup is Nov 9th</div>\n
LOCATION:Sauk Prairie Area Chamber of Commerce Welcome Center
UID:e.1184.34381
SEQUENCE:3
DTSTAMP:20260419T130907Z
URL:http://members.saukprairie.com/events/details/sea-glass-holiday-tree-workshop-34381
END:VEVENT

END:VCALENDAR
