BEGIN:VCALENDAR
VERSION:2.0
PRODID:-//ChamberMaster//Event Calendar 2.0//EN
METHOD:PUBLISH
X-PUBLISHED-TTL:P3D
REFRESH-INTERVAL:P3D
CALSCALE:GREGORIAN
BEGIN:VEVENT
DTSTART:20200212T000000Z
DTEND:20200212T013000Z
X-MICROSOFT-CDO-ALLDAYEVENT:FALSE
SUMMARY:Self Defense Class at SP Fitness
DESCRIPTION:This course covers critical thinking about self-defense strategies\, assertiveness\, powerful communication skills\, and easy-to-remember physical techniques. The instructor respects and responds to your fears and concerns. Instruction is based on a belief that women can act competently\, decisively\, and take action for their own protection. Each class is based on intelligence and not muscle. It offers tools for enabling a woman to connect with her own strength and power.
X-ALT-DESC;FMTTYPE=text/html:<strong>This course covers critical thinking about self-defense strategies\, assertiveness\, powerful communication skills\, and easy-to-remember physical techniques. The instructor respects and responds to your fears and concerns. Instruction is based on a belief that women can act competently\, decisively\, and take action for their own protection. Each class is based on intelligence and not muscle. It offers tools for enabling a woman to connect with her own strength and power.</strong>
LOCATION:SP Fitness 1111 Dallas Street Suit B Sauk City\, WI 53583
UID:e.1184.24024
SEQUENCE:3
DTSTAMP:20260423T041646Z
URL:http://members.saukprairie.com/events/details/self-defense-class-at-sp-fitness-02-11-2020-24024
END:VEVENT

END:VCALENDAR
