BEGIN:VCALENDAR
VERSION:2.0
PRODID:-//ChamberMaster//Event Calendar 2.0//EN
METHOD:PUBLISH
X-PUBLISHED-TTL:P3D
REFRESH-INTERVAL:P3D
CALSCALE:GREGORIAN
BEGIN:VEVENT
DTSTART:20200326T230000Z
DTEND:20200327T003000Z
X-MICROSOFT-CDO-ALLDAYEVENT:FALSE
SUMMARY:Self Defense Class at SP Fitness
DESCRIPTION:This course covers critical thinking about self-defense strategies\, assertiveness\, powerful communication skills\, and easy-to-remember physical techniques. The instructor respects and responds to your fears and concerns. Instruction is based on a belief that women can act competently\, decisively\, and take action for their own protection. Each class is based on intelligence and not muscle. It offers tools for enabling a woman to connect with her own strength and power.\n\n\n\n**If you have already taken a class\, please come for a reminder and leave with some additional technique**
X-ALT-DESC;FMTTYPE=text/html:<strong>This course covers critical thinking about self-defense strategies\, assertiveness\, powerful communication skills\, and easy-to-remember physical techniques. The instructor respects and responds to your fears and concerns. Instruction is based on a belief that women can act competently\, decisively\, and take action for their own protection. Each class is based on intelligence and not muscle. It offers tools for enabling a woman to connect with her own strength and power.<br />\n<br />\n**If you have already taken a class\, please come for a reminder and leave with some additional technique**</strong>
LOCATION:SP Fitness 1111 Dallas Street Suit B Sauk City\, WI 53583
UID:e.1184.24118
SEQUENCE:3
DTSTAMP:20260423T030341Z
URL:http://members.saukprairie.com/events/details/self-defense-class-at-sp-fitness-03-26-2020-24118
END:VEVENT

END:VCALENDAR
