BEGIN:VCALENDAR
VERSION:2.0
PRODID:-//ChamberMaster//Event Calendar 2.0//EN
METHOD:PUBLISH
X-PUBLISHED-TTL:P3D
REFRESH-INTERVAL:P3D
CALSCALE:GREGORIAN
BEGIN:VEVENT
DTSTART:20240217T003000Z
DTEND:20240217T013000Z
X-MICROSOFT-CDO-ALLDAYEVENT:FALSE
SUMMARY:Self Love Series Friday Night Classes
DESCRIPTION:If you're looking to learn the basics or simply get back into the swing of things\, this class is perfect for you. This series of classes is designed to promote Self Love\, including affirmations that will uplift and inspire you. We hope to make a positive impact on your life through our program. Please remember to bring your own mat or towel\, or simply let us know in advance and we'll provide one for you.
X-ALT-DESC;FMTTYPE=text/html:<p>If you&#39\;re looking to learn the basics or simply get back into the swing of things\, this class is perfect for you. This series of classes is designed to promote Self Love\, including affirmations that will uplift and inspire you. We hope to make a positive impact on your life through our program. Please remember to bring your own mat or towel\, or simply let us know in advance and we&#39\;ll provide one for you.</p>\n
LOCATION:350 Prairie St.\, Prairie Du Sac\, WI 53718
UID:e.1184.31475
SEQUENCE:3
DTSTAMP:20260420T003320Z
URL:http://members.saukprairie.com/events/details/self-love-series-friday-night-classes-02-16-2024-31475
END:VEVENT

END:VCALENDAR
