BEGIN:VCALENDAR
VERSION:2.0
PRODID:-//ChamberMaster//Event Calendar 2.0//EN
METHOD:PUBLISH
X-PUBLISHED-TTL:P3D
REFRESH-INTERVAL:P3D
CALSCALE:GREGORIAN
BEGIN:VEVENT
DTSTART;VALUE=DATE:20220512
DTEND;VALUE=DATE:20220515
TRANSP:TRANSPARENT
X-MICROSOFT-CDO-ALLDAYEVENT:TRUE
SUMMARY:Selwood Neighborhood Garage Sales
DESCRIPTION:Selwood is having their garage sales along with the Sauk Prairie Garage Sale Days. Come check out all of their sales!
X-ALT-DESC;FMTTYPE=text/html:Selwood is having their garage sales along with the Sauk Prairie Garage Sale Days. Come check out all of their sales!
LOCATION:Selwood Subdivision Hwy 60 East (1.5 miles)towards Lodi. Take left on Hwy 188 North. (1 mile)
UID:e.1184.27657
SEQUENCE:3
DTSTAMP:20260421T121902Z
URL:http://members.saukprairie.com/events/details/selwood-neighborhood-garage-sales-27657
END:VEVENT

END:VCALENDAR
