BEGIN:VCALENDAR
VERSION:2.0
PRODID:-//ChamberMaster//Event Calendar 2.0//EN
METHOD:PUBLISH
X-PUBLISHED-TTL:P3D
REFRESH-INTERVAL:P3D
CALSCALE:GREGORIAN
BEGIN:VEVENT
DTSTART:20180521T180000Z
DTEND:20180521T190000Z
X-MICROSOFT-CDO-ALLDAYEVENT:FALSE
SUMMARY:Senator Mobile Office
DESCRIPTION:"Senator Johnson believes government should be efficient\, effective and accountable.\n\n\n\nMobile Office Hours are a convenient way for constituents to meet with the Senator's staff members who can help with federal issues."\n\n \n\nSauk County: Sauk City Office Hours\n\nMonday\, May 21\n\n1:00 p.m. -2:00 p.m.\n\nSauk City Municipal Building\n\n726 Water St\, Sauk City\, WI 53583
X-ALT-DESC;FMTTYPE=text/html:&quot\;Senator Johnson believes government should be efficient\, effective and accountable.<br />\n<br />\nMobile Office Hours are a convenient way for constituents to meet with the Senator&#39\;s staff members who can help with federal issues.&quot\;<br />\n&nbsp\;<br />\nSauk County: Sauk City Office Hours<br />\nMonday\, May 21<br />\n1:00 p.m. -2:00 p.m.<br />\nSauk City Municipal Building<br />\n726 Water St\, Sauk City\, WI 53583
LOCATION:
UID:e.1184.18152
SEQUENCE:3
DTSTAMP:20260424T111843Z
URL:http://members.saukprairie.com/events/details/senator-mobile-office-18152
END:VEVENT

END:VCALENDAR
