BEGIN:VCALENDAR
VERSION:2.0
PRODID:-//ChamberMaster//Event Calendar 2.0//EN
METHOD:PUBLISH
X-PUBLISHED-TTL:P3D
REFRESH-INTERVAL:P3D
CALSCALE:GREGORIAN
BEGIN:VEVENT
DTSTART:20190416T153000Z
DTEND:20190417T043000Z
X-MICROSOFT-CDO-ALLDAYEVENT:FALSE
SUMMARY:Bingo!
DESCRIPTION:Bingo!
X-ALT-DESC;FMTTYPE=text/html:Bingo!
LOCATION:Sauk Prairie Community Center
UID:e.1184.21981
SEQUENCE:3
DTSTAMP:20260423T185407Z
URL:http://members.saukprairie.com/events/details/senior-bingo-04-16-2019-21981
END:VEVENT

END:VCALENDAR
