BEGIN:VCALENDAR
VERSION:2.0
PRODID:-//ChamberMaster//Event Calendar 2.0//EN
METHOD:PUBLISH
X-PUBLISHED-TTL:P3D
REFRESH-INTERVAL:P3D
CALSCALE:GREGORIAN
BEGIN:VEVENT
DTSTART:20180912T134500Z
DTEND:20180912T163000Z
X-MICROSOFT-CDO-ALLDAYEVENT:FALSE
SUMMARY:Senior Morning Movie at the RAC!
DESCRIPTION:FREE Senior Morning Movie at the River Arts Center!  Wednesday\, September 12th join us for The Book Club starring Diane Keaton\, Jane Fonda\, Candice Bergen and Mary Steenburgen.  Breakfast treats and coffee are served at 8:45 am followed by the movie at 9:30 am.  Please enter through the gallery door. \n\n\n\nRSVP by calling 608-643-8386.
X-ALT-DESC;FMTTYPE=text/html:<strong>FREE Senior Morning Movie</strong> at the River Arts Center!&nbsp\; Wednesday\, September 12th join us for<em> <strong>The Book Club </strong></em>starring Diane Keaton\, Jane Fonda\, Candice Bergen and Mary Steenburgen.&nbsp\; Breakfast treats and coffee are served at 8:45 am followed by the movie at 9:30 am.&nbsp\; Please enter through the gallery door.&nbsp\;<br />\n<br />\nRSVP by calling 608-643-8386.
LOCATION:River Arts Center\, 105 9th Street\, Prairie du Sac\, WI 53578 Attached to the High School
UID:e.1184.20944
SEQUENCE:3
DTSTAMP:20260424T051447Z
URL:http://members.saukprairie.com/events/details/senior-morning-movie-at-the-rac-09-12-2018-20944
END:VEVENT

END:VCALENDAR
