BEGIN:VCALENDAR
VERSION:2.0
PRODID:-//ChamberMaster//Event Calendar 2.0//EN
METHOD:PUBLISH
X-PUBLISHED-TTL:P3D
REFRESH-INTERVAL:P3D
CALSCALE:GREGORIAN
BEGIN:VEVENT
DTSTART:20180808T134500Z
DTEND:20180808T163000Z
X-MICROSOFT-CDO-ALLDAYEVENT:FALSE
SUMMARY:Senior Morning Movie at the RAC
DESCRIPTION:Join us for a light breakfast\, coffee or water and watch The Magnificent Seven on the big screen at the RAC. Seven gunmen in the old west gradually come together to help a poor village against savage thieves\, a remake of the 1960's movie.  Stars include Denzel Washington\, Chris Pratt\, and Ethan Hawke.   Free to attend.  Please RSVP to 643-8386.
X-ALT-DESC;FMTTYPE=text/html:Join us for a light breakfast\, coffee or water and watch The Magnificent Seven on the big screen at the RAC.&nbsp\;<span style="background-color:rgb(238\, 238\, 238)\; color:rgb(51\, 51\, 51)\; font-family:verdana\,arial\,sans-serif\; font-size:13px">Seven gunmen in the old west gradually come together to help a poor village against savage thieves\, a remake of the 1960&#39\;s movie.&nbsp\; Stars include Denzel Washington\, Chris Pratt\, and Ethan Hawke.&nbsp\;&nbsp\;</span>&nbsp\;Free to attend.&nbsp\; Please RSVP to 643-8386.
LOCATION:River Arts Center\, Located next to the High School.
UID:e.1184.20491
SEQUENCE:3
DTSTAMP:20260424T070248Z
URL:http://members.saukprairie.com/events/details/senior-morning-movie-at-the-rac-20491
END:VEVENT

END:VCALENDAR
