BEGIN:VCALENDAR
VERSION:2.0
PRODID:-//ChamberMaster//Event Calendar 2.0//EN
METHOD:PUBLISH
X-PUBLISHED-TTL:P3D
REFRESH-INTERVAL:P3D
CALSCALE:GREGORIAN
BEGIN:VEVENT
DTSTART:20180711T134500Z
DTEND:20180711T163000Z
X-MICROSOFT-CDO-ALLDAYEVENT:FALSE
SUMMARY:Senior Morning Movie - I Can Only Imagine
DESCRIPTION:Join us for our Senior (over 55) FREE Movie in the River Arts Center!  We start with snacks and coffee in the lobby of the River Arts Center.   July's film will be I Can Only Imagine starring Dennis Quaid\, Trace Adkins\, Pricilla Shirer\, Madeline Carroll and J. Michael Finley.  \n\n\n\nGrowing up in Greenville\, Texas\, Bart Millard suffers physical and emotional abuse at the hands of his father\, Arthur. When Arthur becomes terminally ill\, he finds redemption by embracing his faith and rediscovering his love for his son. Years later\, Bart's troubled childhood and mended relationship with his dad inspires him to write the hit song "I Can Only Imagine" as singer of the Christian band MercyMe.\n\n\n\nThis movie is "both beautiful and emotionally powerful" - USA Today
X-ALT-DESC;FMTTYPE=text/html:Join us for our Senior (over 55) FREE Movie in the River Arts Center!&nbsp\; We start with snacks and coffee in the lobby of the River Arts Center.&nbsp\; &nbsp\;July&#39\;s film will be I Can Only Imagine starring Dennis Quaid\, Trace Adkins\, Pricilla Shirer\, Madeline Carroll and J. Michael Finley.&nbsp\;&nbsp\;<br />\n<br />\n<span style="background-color:rgb(255\, 255\, 255)\; color:rgb(34\, 34\, 34)\; font-family:roboto\,arial\,sans-serif\; font-size:small">Growing up in Greenville\, Texas\, Bart Millard suffers physical and emotional abuse at the hands of his father\, Arthur. When Arthur becomes terminally ill\, he finds redemption by embracing his faith and rediscovering his love for his son. Years later\, Bart&#39\;s troubled childhood and mended relationship</span><span style="background-color:rgb(255\, 255\, 255)\; color:rgb(34\, 34\, 34)\; font-family:roboto\,arial\,sans-serif\; font-size:small">&nbsp\;with his dad inspires him to write the hit song &quot\;I Can Only Imagine&quot\; as singer of the Christian band MercyMe.<br />\n<br />\nThis movie is &quot\;both beautiful and emotionally powerful&quot\; - USA Today</span>
LOCATION:River Arts Center located next to the Sauk Prairie High School. Please enter through the side doors and proceed left to the lobby.
UID:e.1184.19397
SEQUENCE:3
DTSTAMP:20260424T101100Z
URL:http://members.saukprairie.com/events/details/senior-morning-movie-i-can-only-imagine-19397
END:VEVENT

END:VCALENDAR
