BEGIN:VCALENDAR
VERSION:2.0
PRODID:-//ChamberMaster//Event Calendar 2.0//EN
METHOD:PUBLISH
X-PUBLISHED-TTL:P3D
REFRESH-INTERVAL:P3D
CALSCALE:GREGORIAN
BEGIN:VEVENT
DTSTART:20220413T210000Z
DTEND:20220414T010000Z
X-MICROSOFT-CDO-ALLDAYEVENT:FALSE
SUMMARY:Sensory Friendly Dinner!
DESCRIPTION:Enjoy a great night with great food and drinks in a sensory friendly environment at Vintage Brewing Company Sauk Prairie on Wednesday\, April 13th!\n\nWe are excited to co-host a sensory friendly dinner with Vintage Brewing Company Sauk Prairie. This special event will take place in the upstairs dining room with seating at 4pm\, 6pm\, or 8pm. Check out their menu at https://vintagebrewingcompany.com/saukprairie/\n\nCall Vintage Brewing Co. Sauk Prairie at (608) 370-8200 to make your sensory friendly dinner event reservation for a 4pm\, 6pm\, or 8pm seating! Tables can accommodate group sizes up to 8 people.\n\nNote: The upstairs dining room is accessible by elevator or stairs. Lights will be dimmed. Paper towels will be available in the restrooms. Sensory items will also be available for use during dinner if needed.
X-ALT-DESC;FMTTYPE=text/html:<div class="kvgmc6g5 cxmmr5t8 oygrvhab hcukyx3x c1et5uql" style="overflow-wrap: break-word\; margin: 0px\; font-family: &quot\;Segoe UI Historic&quot\;\, &quot\;Segoe UI&quot\;\, Helvetica\, Arial\, sans-serif\; color: rgb(5\, 5\, 5)\; font-size: 15px\;">Enjoy a great night with great food and drinks in a sensory friendly environment at Vintage Brewing Company Sauk Prairie on Wednesday\, April 13th!</div>\n\n<div class="cxmmr5t8 oygrvhab hcukyx3x c1et5uql o9v6fnle" style="overflow-wrap: break-word\; margin: 0.5em 0px 0px\; font-family: &quot\;Segoe UI Historic&quot\;\, &quot\;Segoe UI&quot\;\, Helvetica\, Arial\, sans-serif\; color: rgb(5\, 5\, 5)\; font-size: 15px\;">We are excited to co-host a sensory friendly dinner with Vintage Brewing Company Sauk Prairie. This special event will take place in the upstairs dining room with seating at 4pm\, 6pm\, or 8pm. Check out their menu at&nbsp\;<a class="oajrlxb2 g5ia77u1 qu0x051f esr5mh6w e9989ue4 r7d6kgcz rq0escxv nhd2j8a9 nc684nl6 p7hjln8o kvgmc6g5 cxmmr5t8 oygrvhab hcukyx3x jb3vyjys rz4wbd8a qt6c0cv9 a8nywdso i1ao9s8h esuyzwwr f1sip0of lzcic4wl gpro0wi8 py34i1dx" href="https://vintagebrewingcompany.com/saukprairie/?fbclid=IwAR0tSiqfcg6ST6vw4P-6TEbfM_0UcGflewJWG1uw1dYnatR8jgpOowDp7j8" rel="nofollow noopener" role="link" style="color: var(--blue-link)\; cursor: pointer\; text-decoration-line: none\; outline: none\; list-style: none\; border-width: 0px\; border-style: initial\; border-color: initial\; padding: 0px\; margin: 0px\; touch-action: manipulation\; background-color: transparent\; text-align: inherit\; display: inline\; -webkit-tap-highlight-color: transparent\; box-sizing: border-box\; font-family: inherit\;" tabindex="0" target="_blank">https://vintagebrewingcompany.com/saukprairie/</a></div>\n\n<div class="cxmmr5t8 oygrvhab hcukyx3x c1et5uql o9v6fnle" style="overflow-wrap: break-word\; margin: 0.5em 0px 0px\; font-family: &quot\;Segoe UI Historic&quot\;\, &quot\;Segoe UI&quot\;\, Helvetica\, Arial\, sans-serif\; color: rgb(5\, 5\, 5)\; font-size: 15px\;">Call Vintage Brewing Co. Sauk Prairie at (608) 370-8200 to make your sensory friendly dinner event reservation for a 4pm\, 6pm\, or 8pm seating! Tables can accommodate group sizes up to 8 people.</div>\n\n<div class="cxmmr5t8 oygrvhab hcukyx3x c1et5uql o9v6fnle" style="overflow-wrap: break-word\; margin: 0.5em 0px 0px\; font-family: &quot\;Segoe UI Historic&quot\;\, &quot\;Segoe UI&quot\;\, Helvetica\, Arial\, sans-serif\; color: rgb(5\, 5\, 5)\; font-size: 15px\;">Note: The upstairs dining room is accessible by elevator or stairs. Lights will be dimmed. Paper towels will be available in the restrooms. Sensory items will also be available for use during dinner if needed.</div>\n
LOCATION:Vintage Brewing Co. 600 Water Street Sauk City
UID:e.1184.27200
SEQUENCE:3
DTSTAMP:20260421T144048Z
URL:http://members.saukprairie.com/events/details/sensory-friendly-dinner-27200
END:VEVENT

END:VCALENDAR
