BEGIN:VCALENDAR
VERSION:2.0
PRODID:-//ChamberMaster//Event Calendar 2.0//EN
METHOD:PUBLISH
X-PUBLISHED-TTL:P3D
REFRESH-INTERVAL:P3D
CALSCALE:GREGORIAN
BEGIN:VEVENT
DTSTART:20230304T210000Z
DTEND:20230305T020000Z
X-MICROSOFT-CDO-ALLDAYEVENT:FALSE
SUMMARY:Serenity Art Gallery Grand Opening
DESCRIPTION:Visiting an art exhibition is pure joy. Art is something that brings out happiness and brings the community together. We cordially invite you to the free Grand Opening of Serenity Art Gallery\, an exhibit of the works of Sharron Foth. It will be a great day of fun\, meeting new people\, and experiencing some exciting new art work! Refreshments will be served. We hope to see you there! "I share my art in the hopes that it will speak to someone personally\, and make them feel as happy as I felt while painting it." Sharron Foth
X-ALT-DESC;FMTTYPE=text/html:Visiting an art exhibition is pure joy. Art is something that brings out happiness and brings the community together. We cordially invite you to the free Grand Opening of Serenity Art Gallery\, an exhibit of the works of Sharron Foth. It will be a great day of fun\, meeting new people\, and experiencing some exciting new art work! Refreshments will be served. We hope to see you there! &quot\;I share my art in the hopes that it will speak to someone personally\, and make them feel as happy as I felt while painting it.&quot\; Sharron Foth
LOCATION:350 Prairie St. Suite 300 Prairie du Sac\, WI 53578
UID:e.1184.29931
SEQUENCE:3
DTSTAMP:20260420T180600Z
URL:http://members.saukprairie.com/events/details/serenity-art-gallery-grand-opening-29931
END:VEVENT

END:VCALENDAR
