BEGIN:VCALENDAR
VERSION:2.0
PRODID:-//ChamberMaster//Event Calendar 2.0//EN
METHOD:PUBLISH
X-PUBLISHED-TTL:P3D
REFRESH-INTERVAL:P3D
CALSCALE:GREGORIAN
BEGIN:VEVENT
DTSTART:20240907T150000Z
DTEND:20240907T200000Z
X-MICROSOFT-CDO-ALLDAYEVENT:FALSE
SUMMARY:Serenity Art Gallery Grand Opening
DESCRIPTION:Serenity Art Gallery Grand Opening of New Location!\n\n\n\nSeptember 7th | 10am-3pm\n\n\n\n725 Water Street\, Sauk City WI
X-ALT-DESC;FMTTYPE=text/html:Serenity Art Gallery Grand Opening of New Location!<br />\n<br />\nSeptember 7th | 10am-3pm<br />\n<br />\n725 Water Street\, Sauk City WI
LOCATION:
UID:e.1184.33028
SEQUENCE:3
DTSTAMP:20260419T160618Z
URL:http://members.saukprairie.com/events/details/serenity-art-gallery-grand-opening-33028
END:VEVENT

END:VCALENDAR
