BEGIN:VCALENDAR
VERSION:2.0
PRODID:-//ChamberMaster//Event Calendar 2.0//EN
METHOD:PUBLISH
X-PUBLISHED-TTL:P3D
REFRESH-INTERVAL:P3D
CALSCALE:GREGORIAN
BEGIN:VEVENT
DTSTART:20200930T140000Z
DTEND:20200930T150000Z
X-MICROSOFT-CDO-ALLDAYEVENT:FALSE
SUMMARY:Service Industries Virtual Roundtable
DESCRIPTION:Industry leaders will come together to share best practices\, employee recruitment strategies & industry needs.
X-ALT-DESC;FMTTYPE=text/html:&nbsp\;Industry leaders will come together to share best practices\, employee recruitment strategies &amp\; industry needs.
LOCATION:Meeting ID meet.google.com/oec-bdyq-ovx Phone Numbers ( US ) +1 347-486-6542 PIN: 436 385 482#
UID:e.1184.26089
SEQUENCE:3
DTSTAMP:20260422T165228Z
URL:http://members.saukprairie.com/events/details/service-industries-virtual-roundtable-26089
END:VEVENT

END:VCALENDAR
