BEGIN:VCALENDAR
VERSION:2.0
PRODID:-//ChamberMaster//Event Calendar 2.0//EN
METHOD:PUBLISH
X-PUBLISHED-TTL:P3D
REFRESH-INTERVAL:P3D
CALSCALE:GREGORIAN
BEGIN:VEVENT
DTSTART:20231017T163000Z
DTEND:20231017T180000Z
X-MICROSOFT-CDO-ALLDAYEVENT:FALSE
SUMMARY:Serving Up Knowledge: An Employee Handbook: The What\, Why\, & How
DESCRIPTION:Join members as we take a time to learn about various topics that will help grow our business while sharing in conversation over lunch. These sessions are from 11:30   1:00 pm\, and members are encouraged to send as many staff as they would like to these training forums. \n\n\n\nAn Employee Handbook: The What\, Why\, & How\, presented by SustainableHR\, a division of Kollath & Associates\, CPA\, LLC
X-ALT-DESC;FMTTYPE=text/html:Join members as we take a time to learn about various topics that will help grow our business while sharing in conversation over lunch. These sessions are from 11:30 &ndash\; 1:00 pm\, and members are encouraged to send as many staff as they would like to these training forums.&nbsp\;<br />\n<br />\n<span style="font-size:16px\;">An Employee Handbook: The What\, Why\, &amp\; How\, presented by&nbsp\;SustainableHR\, a division of Kollath &amp\; Associates\, CPA\, LLC</span><br />\n<br />\n<br />\n&nbsp\;
LOCATION:Schwarz Insurance 1420 North Ridge Dr. Prairie du Sac
UID:e.1184.29325
SEQUENCE:3
DTSTAMP:20260420T061923Z
URL:http://members.saukprairie.com/events/details/serving-up-knowledge-an-employee-handbook-the-what-why-how-29325
END:VEVENT

END:VCALENDAR
