BEGIN:VCALENDAR
VERSION:2.0
PRODID:-//ChamberMaster//Event Calendar 2.0//EN
METHOD:PUBLISH
X-PUBLISHED-TTL:P3D
REFRESH-INTERVAL:P3D
CALSCALE:GREGORIAN
BEGIN:VEVENT
DTSTART:20230406T163000Z
DTEND:20230406T180000Z
X-MICROSOFT-CDO-ALLDAYEVENT:FALSE
SUMMARY:Serving Up Knowledge: Business Improv: An Actor's Approach to Radical Collaboration
DESCRIPTION:Join members as we take a time to learn about various topics that will help grow our business while sharing in conversation over lunch. These sessions are from 11:30   1:00 pm\, and members are encouraged to send as many staff as they would like to these training forums. \n\n\n\nBusiness Improv: An Actor's Approach to Radical Collaboration\, presented by Kelsey Brennan
X-ALT-DESC;FMTTYPE=text/html:Join members as we take a time to learn about various topics that will help grow our business while sharing in conversation over lunch. These sessions are from 11:30 &ndash\; 1:00 pm\, and members are encouraged to send as many staff as they would like to these training forums.&nbsp\;<br />\n<br />\n<span style="font-size:16px\;"><span style="font-family:calibri\,sans-serif\;">Business Improv: An Actor&rsquo\;s Approach to Radical Collaboration\, presented by Kelsey Brennan&nbsp\;</span></span>
LOCATION:Schwarz Insurance 1420 North Ridge Dr. Prairie du Sac
UID:e.1184.29315
SEQUENCE:3
DTSTAMP:20260420T154818Z
URL:http://members.saukprairie.com/events/details/serving-up-knowledge-business-improv-an-actor-s-approach-to-radical-collaboration-29315
END:VEVENT

END:VCALENDAR
