BEGIN:VCALENDAR
VERSION:2.0
PRODID:-//ChamberMaster//Event Calendar 2.0//EN
METHOD:PUBLISH
X-PUBLISHED-TTL:P3D
REFRESH-INTERVAL:P3D
CALSCALE:GREGORIAN
BEGIN:VEVENT
DTSTART:20220920T163000Z
DTEND:20220920T180000Z
X-MICROSOFT-CDO-ALLDAYEVENT:FALSE
SUMMARY:Serving Up Knowledge: Coach Em' to Keep Em'
DESCRIPTION:Join members as we take a time to learn about various topics that will help grow our business while sharing in conversation over lunch. These sessions are from 11:30   1:00 pm\, and members are encouraged to send as many staff as they would like to these training forums. \n\n\n\nCoach 'Em to Keep 'Em\n\n	Are you tired of recruiting\, training and retraining employees only to end up disappointed yet again?\n	Are you experiencing lots of turnover with subsequent lack of applicants to fill the vacant positions?\n	Are you suffering from the lack of engagement on your employee work teams?\n\nIf you answered yes to any of these questions then this lunch and learn session is for you. There is a solution: coaching!  In this interactive experience\, we will explore the benefits of coaching employees to improve overall retention of your workforce.  A coaching leadership culture is a difference maker.  Find out how it can make a difference in your organization.\n\n\n\nCome learn and practice simple coaching skills that make a tremendous impact in growing and supporting people so that they chose to stay with your company.  Leave this session with multiple retention strategies along with a page of coaching questions for your leadership repertoire.\n\nDon't miss this opportunity.  Sign up today!\n\n\n\nAbout the facilitators:   \n\nSteve and Cella Hartline are credentialed life coaches through the International Coaching Federation.  They are the founders of Enlightened Way: New Day.  Find out more about us and our business at www.ewndcoaching.com
X-ALT-DESC;FMTTYPE=text/html:Join members as we take a time to learn about various topics that will help grow our business while sharing in conversation over lunch. These sessions are from 11:30 &ndash\; 1:00 pm\, and members are encouraged to send as many staff as they would like to these training forums.&nbsp\;<br />\n<br />\n<strong>Coach &lsquo\;Em to Keep &lsquo\;Em</strong>\n<ul>\n	<li>Are you tired of recruiting\, training and retraining employees only to end up disappointed yet again?</li>\n	<li>Are you experiencing lots of turnover with subsequent lack of applicants to fill the vacant positions?</li>\n	<li>Are you suffering from the lack of engagement on your employee work teams?</li>\n</ul>\nIf you answered yes to any of these questions then this lunch and learn session is for you. There is a solution: coaching! &nbsp\;In this interactive experience\, we will explore the benefits of coaching employees to improve overall retention of your workforce.&nbsp\; A coaching leadership culture is a difference maker.&nbsp\; Find out how it can make a difference in your organization.<br />\n<br />\nCome learn and practice simple coaching skills that make a tremendous impact in growing and supporting people so that they chose to stay with your company.&nbsp\; Leave this session with multiple retention strategies along with a page of coaching questions for your leadership repertoire.<br />\nDon&rsquo\;t miss this opportunity.&nbsp\; <a href="https://saukprairie.chambermaster.com/eventregistration/register/27021">Sign up today!</a><br />\n<br />\n<strong>About the facilitators:&nbsp\; &nbsp\;</strong><br />\nSteve and Cella Hartline are credentialed life coaches through the International Coaching Federation.&nbsp\; They are the founders of Enlightened Way: New Day.&nbsp\; Find out more about us and our business at <a href="http://www.ewndcoaching.com/">www.ewndcoaching.com</a>
LOCATION:Schwarz Insurance 1420 North Ridge Dr. Prairie du Sac
UID:e.1184.27021
SEQUENCE:3
DTSTAMP:20260421T061342Z
URL:http://members.saukprairie.com/events/details/serving-up-knowledge-coach-em-to-keep-em-27021
END:VEVENT

END:VCALENDAR
