BEGIN:VCALENDAR
VERSION:2.0
PRODID:-//ChamberMaster//Event Calendar 2.0//EN
METHOD:PUBLISH
X-PUBLISHED-TTL:P3D
REFRESH-INTERVAL:P3D
CALSCALE:GREGORIAN
BEGIN:VEVENT
DTSTART:20220601T163000Z
DTEND:20220601T180000Z
X-MICROSOFT-CDO-ALLDAYEVENT:FALSE
SUMMARY:Serving Up Knowledge: Grief and the Business Professional
DESCRIPTION:Join members as we take a time to learn about various topics that will help grow our business while sharing in conversation over lunch. These sessions are from 11:30   1:00 pm\, and members are encouraged to send as many staff as they would like to these training forums. \n\n	TOPIC: Grief and the Business Professional (Tips for supporting grieving employees)\n	Presented by: Agrace\n\n\n\nA lunch and learn providing practical tips for how you can appropriately and compassionately support employees who are grieving a death.
X-ALT-DESC;FMTTYPE=text/html:<span style="font-size:18px\;"><span style="font-family:arial\;">Join members as we take a time to learn about various topics that will help grow our business while sharing in conversation over lunch. These sessions are from 11:30 &ndash\; 1:00 pm\, and members are encouraged to send as many staff as they would like to these training forums.&nbsp\;</span></span>\n<ul>\n	<li><span style="font-size:18px\;"><span style="font-family:arial\;">TOPIC: Grief and the Business Professional (Tips for supporting grieving employees)</span></span></li>\n	<li><span style="font-size:18px\;"><span style="font-family:arial\;">Presented by: Agrace</span></span></li>\n</ul>\n<br />\n<span style="font-size:18px\;"><span style="font-family:arial\;">A lunch and learn providing practical tips for how you can appropriately and compassionately support employees who are grieving a death.</span></span><br />\n&nbsp\;
LOCATION:Schwarz Insurance 1420 North Ridge Dr. Prairie du Sac
UID:e.1184.27404
SEQUENCE:3
DTSTAMP:20260421T120041Z
URL:http://members.saukprairie.com/events/details/serving-up-knowledge-grief-and-the-business-professional-27404
END:VEVENT

END:VCALENDAR
