BEGIN:VCALENDAR
VERSION:2.0
PRODID:-//ChamberMaster//Event Calendar 2.0//EN
METHOD:PUBLISH
X-PUBLISHED-TTL:P3D
REFRESH-INTERVAL:P3D
CALSCALE:GREGORIAN
BEGIN:VEVENT
DTSTART:20230110T173000Z
DTEND:20230110T190000Z
X-MICROSOFT-CDO-ALLDAYEVENT:FALSE
SUMMARY:Serving Up Knowledge: Small Business Finance & Business Planning
DESCRIPTION:Join members as we take a time to learn about various topics that will help grow our business while sharing in conversation over lunch. These sessions are from 11:30   1:00 pm\, and members are encouraged to send as many staff as they would like to these training forums. \n\n\n\nSmall Business Finance & Business Planning presented by Casey Koenig w/Bank of Prairie du Sac
X-ALT-DESC;FMTTYPE=text/html:Join members as we take a time to learn about various topics that will help grow our business while sharing in conversation over lunch. These sessions are from 11:30 &ndash\; 1:00 pm\, and members are encouraged to send as many staff as they would like to these training forums.&nbsp\;<br />\n<br />\n<span style="font-size:16px\;"><span style="font-family:calibri\,sans-serif\;">Small Business Finance &amp\; Business Planning presented by Casey Koenig w/Bank of Prairie du Sac</span></span><br />\n<br />\n&nbsp\;
LOCATION:Schwarz Insurance 1420 North Ridge Dr. Prairie du Sac
UID:e.1184.29310
SEQUENCE:3
DTSTAMP:20260420T233343Z
URL:http://members.saukprairie.com/events/details/serving-up-knowledge-small-business-finance-business-planning-29310
END:VEVENT

END:VCALENDAR
