BEGIN:VCALENDAR
VERSION:2.0
PRODID:-//ChamberMaster//Event Calendar 2.0//EN
METHOD:PUBLISH
X-PUBLISHED-TTL:P3D
REFRESH-INTERVAL:P3D
CALSCALE:GREGORIAN
BEGIN:VEVENT
DTSTART:20220412T163000Z
DTEND:20220412T180000Z
X-MICROSOFT-CDO-ALLDAYEVENT:FALSE
SUMMARY:Serving Up Knowledge: Video Basics for Facebook
DESCRIPTION:Join members as we take a time to learn about various topics that will help grow our business while sharing in conversation over lunch. These sessions are from 11:30   1:00 pm\, and members are encouraged to send as many staff as they would like to these training forums. \n\n\n\nTOPIC: Video Basics for Facebook Presented by:  Tracy Thompson w/RE/MAX Grand and Lindsey Giese w/River Arts Inc.
X-ALT-DESC;FMTTYPE=text/html:Join members as we take a time to learn about various topics that will help grow our business while sharing in conversation over lunch. These sessions are from 11:30 &ndash\; 1:00 pm\, and members are encouraged to send as many staff as they would like to these training forums.&nbsp\;<br />\n<br />\nTOPIC: <span style="font-family:calibri\,sans-serif\;"><span style="font-size:11.0pt\;">Video Basics for Facebook&nbsp\;</span></span>Presented by:&nbsp\; Tracy Thompson w/RE/MAX Grand and Lindsey Giese&nbsp\;w/River Arts Inc.<br />\n<br />\n&nbsp\;
LOCATION:Schwarz Insurance 1420 North Ridge Dr. Prairie du Sac
UID:e.1184.27020
SEQUENCE:3
DTSTAMP:20260421T131529Z
URL:http://members.saukprairie.com/events/details/serving-up-knowledge-video-basics-for-facebook-27020
END:VEVENT

END:VCALENDAR
