BEGIN:VCALENDAR
VERSION:2.0
PRODID:-//ChamberMaster//Event Calendar 2.0//EN
METHOD:PUBLISH
X-PUBLISHED-TTL:P3D
REFRESH-INTERVAL:P3D
CALSCALE:GREGORIAN
BEGIN:VEVENT
DTSTART:20190719T180000Z
DTEND:20190719T190000Z
X-MICROSOFT-CDO-ALLDAYEVENT:FALSE
SUMMARY:Sew your own Space Creature
DESCRIPTION:Visit the library and learn how to hand sew your own space creature. A perfect craft for kids learning to hand sew. For ages 7-18. Visit the library or call to sign up.
X-ALT-DESC;FMTTYPE=text/html:Visit the library and learn how to hand sew your own space creature. A perfect craft for kids learning to hand sew. For ages 7-18. Visit the library or call to sign up.
LOCATION:515 Water Street Sauk City\, WI 53583
UID:e.1184.22517
SEQUENCE:3
DTSTAMP:20260423T143119Z
URL:http://members.saukprairie.com/events/details/sew-your-own-space-creature-22517
END:VEVENT

END:VCALENDAR
