BEGIN:VCALENDAR
VERSION:2.0
PRODID:-//ChamberMaster//Event Calendar 2.0//EN
METHOD:PUBLISH
X-PUBLISHED-TTL:P3D
REFRESH-INTERVAL:P3D
CALSCALE:GREGORIAN
BEGIN:VEVENT
DTSTART;VALUE=DATE:20220611
DTEND;VALUE=DATE:20220612
TRANSP:TRANSPARENT
X-MICROSOFT-CDO-ALLDAYEVENT:TRUE
SUMMARY:Sh*ts and Giggles Kids Fishing Tournament
DESCRIPTION:Sh*ts and Giggles fun fishing tournament for kids and adults! Pay $2 to enter. Included with the entry fee are hotdogs\, chips\, and door prizes.\n\n\n\n$2 Bloody Mary's down at Lot 7\n\n\n\nBar opens at noon!\n\n\n\nDJ/Karaoke with Tim Hintz on the patio from 2pm-5pm.
X-ALT-DESC;FMTTYPE=text/html:Sh*ts and Giggles fun fishing tournament for kids and adults! Pay $2 to enter. Included with the entry fee are hotdogs\, chips\, and door prizes.<br />\n<br />\n$2 Bloody Mary&#39\;s down at Lot 7<br />\n<br />\nBar opens at noon!<br />\n<br />\nDJ/Karaoke with Tim Hintz on the patio from 2pm-5pm.
LOCATION:Schoepp's Cottonwood Resort: N586 Schoepp Rd\, Sauk City
UID:e.1184.27958
SEQUENCE:3
DTSTAMP:20260421T104257Z
URL:http://members.saukprairie.com/events/details/sh-ts-and-giggles-kids-fishing-tournament-27958
END:VEVENT

END:VCALENDAR
