BEGIN:VCALENDAR
VERSION:2.0
PRODID:-//ChamberMaster//Event Calendar 2.0//EN
METHOD:PUBLISH
X-PUBLISHED-TTL:P3D
REFRESH-INTERVAL:P3D
CALSCALE:GREGORIAN
BEGIN:VEVENT
DTSTART:20220722T180000Z
DTEND:20220722T200000Z
X-MICROSOFT-CDO-ALLDAYEVENT:FALSE
SUMMARY:Shark Week Drop-In
DESCRIPTION:Drop in for shark themed activities\, interactive stations\, and crafts. It's going to be Jaw-some!
X-ALT-DESC;FMTTYPE=text/html:Drop in for shark themed activities\, interactive stations\, and crafts. It&rsquo\;s going to be Jaw-some!
LOCATION:615 Phillips Blvd. Sauk City\, WI
UID:e.1184.28162
SEQUENCE:3
DTSTAMP:20260421T103447Z
URL:http://members.saukprairie.com/events/details/shark-week-drop-in-28162
END:VEVENT

END:VCALENDAR
