BEGIN:VCALENDAR
VERSION:2.0
PRODID:-//ChamberMaster//Event Calendar 2.0//EN
METHOD:PUBLISH
X-PUBLISHED-TTL:P3D
REFRESH-INTERVAL:P3D
CALSCALE:GREGORIAN
BEGIN:VEVENT
DTSTART:20210826T000000Z
DTEND:20210826T020000Z
X-MICROSOFT-CDO-ALLDAYEVENT:FALSE
SUMMARY:Shawn Shell at Vintage Brewing Company
DESCRIPTION:A local favorite\, Shawn needs no introduction!
X-ALT-DESC;FMTTYPE=text/html:A local favorite\, Shawn needs no introduction!
LOCATION:Live band at Vintage Brewing Co. in Sauk City\, Wisconsin
UID:e.1184.26690
SEQUENCE:3
DTSTAMP:20260422T004153Z
URL:http://members.saukprairie.com/events/details/shawn-shell-at-vintage-brewing-company-26690
END:VEVENT

END:VCALENDAR
