BEGIN:VCALENDAR
VERSION:2.0
PRODID:-//ChamberMaster//Event Calendar 2.0//EN
METHOD:PUBLISH
X-PUBLISHED-TTL:P3D
REFRESH-INTERVAL:P3D
CALSCALE:GREGORIAN
BEGIN:VEVENT
DTSTART;VALUE=DATE:20220422
DTEND;VALUE=DATE:20220424
TRANSP:TRANSPARENT
X-MICROSOFT-CDO-ALLDAYEVENT:TRUE
SUMMARY:She Kills Monsters
DESCRIPTION:SAUK PRAIRIE DRAMATIC ARTS PRESENTS\n\n\n\nSHE KILLS MONSTERS\n\nby Qui Nguyen\n\n\n\nYOUNG ADVENTURERS EDITION\n\n\n\nFRIDAY & SATURDAY\, APRIL 22-23\, 2022\n\nAT 7 P.M.\n\n\n\nSAUK PRAIRIE RIVER ARTS CENTER\n\n\n\nTICKETS $10\, IN ADVANCE OR AT THE DOOR\n\n\n\nPRESENTED BY ARRANGEMENT WITH CONCORD THEATRICALS ON BEHALF OF SAMUEL FRENCH\, INC. WWW.CONCORDTHEATRICALS.COM
X-ALT-DESC;FMTTYPE=text/html:SAUK PRAIRIE DRAMATIC ARTS PRESENTS<br />\n<br />\nSHE KILLS MONSTERS<br />\nby Qui Nguyen<br />\n<br />\nYOUNG ADVENTURERS EDITION<br />\n<br />\nFRIDAY &amp\; SATURDAY\, APRIL 22-23\, 2022<br />\nAT 7 P.M.<br />\n<br />\nSAUK PRAIRIE RIVER ARTS CENTER<br />\n<br />\nTICKETS $10\, IN ADVANCE OR AT THE DOOR<br />\n<br />\nPRESENTED BY ARRANGEMENT WITH CONCORD THEATRICALS ON BEHALF OF SAMUEL FRENCH\, INC. WWW.CONCORDTHEATRICALS.COM
LOCATION:
UID:e.1184.27410
SEQUENCE:3
DTSTAMP:20260421T132906Z
URL:http://members.saukprairie.com/events/details/she-kills-monsters-27410
END:VEVENT

END:VCALENDAR
