BEGIN:VCALENDAR
VERSION:2.0
PRODID:-//ChamberMaster//Event Calendar 2.0//EN
METHOD:PUBLISH
X-PUBLISHED-TTL:P3D
REFRESH-INTERVAL:P3D
CALSCALE:GREGORIAN
BEGIN:VEVENT
DTSTART:20230807T203000Z
DTEND:20230807T213000Z
X-MICROSOFT-CDO-ALLDAYEVENT:FALSE
SUMMARY:Shibori Tie-Die and Frushi Making
DESCRIPTION:Teens and tweens are invited to come to the library and create their own tie-dye design and learn how to make frushi (fruit sushi). We will have white bandanas and scrunchies available for tie-dying\, but feel free to bring a T-shirt of your own. For ages 11 to 18. Registration is required.
X-ALT-DESC;FMTTYPE=text/html:Teens and tweens are invited to come to the library and create their own tie-dye design and learn how to make frushi (fruit sushi). We will have white bandanas and scrunchies available for tie-dying\, but feel free to bring a T-shirt of your own. For ages 11 to 18. Registration is required.
LOCATION:615 Phillips Blvd. Sauk City\, WI 53583
UID:e.1184.30902
SEQUENCE:3
DTSTAMP:20260420T090301Z
URL:http://members.saukprairie.com/events/details/shibori-tie-die-and-frushi-making-30902
END:VEVENT

END:VCALENDAR
