BEGIN:VCALENDAR
VERSION:2.0
PRODID:-//ChamberMaster//Event Calendar 2.0//EN
METHOD:PUBLISH
X-PUBLISHED-TTL:P3D
REFRESH-INTERVAL:P3D
CALSCALE:GREGORIAN
BEGIN:VEVENT
DTSTART:20240210T160000Z
DTEND:20240210T180000Z
X-MICROSOFT-CDO-ALLDAYEVENT:FALSE
SUMMARY:Shrink Art Love Letter Keychain
DESCRIPTION:Create a keepsake "Love Note" keychain! We'll write notes on shrink art paper\, pop them in the oven\, shrink them down in size\, and add keychain hardware. A program for school-age children. All supplies and instructions provided. Registration is required. Call 608-643-8346 or see a librarian to register.
X-ALT-DESC;FMTTYPE=text/html:Create a keepsake &quot\;Love Note&quot\; keychain! We&#39\;ll write notes on shrink art paper\, pop them in the oven\, shrink them down in size\, and add keychain hardware. A program for school-age children. All supplies and instructions provided. Registration is required. Call 608-643-8346 or see a librarian to register.
LOCATION:615 Phillips Blvd. Sauk City\, WI 53583
UID:e.1184.31478
SEQUENCE:3
DTSTAMP:20260420T020238Z
URL:http://members.saukprairie.com/events/details/shrink-art-love-letter-keychain-31478
END:VEVENT

END:VCALENDAR
