BEGIN:VCALENDAR
VERSION:2.0
PRODID:-//ChamberMaster//Event Calendar 2.0//EN
METHOD:PUBLISH
X-PUBLISHED-TTL:P3D
REFRESH-INTERVAL:P3D
CALSCALE:GREGORIAN
BEGIN:VEVENT
DTSTART:20181225T003000Z
DTEND:20181225T023000Z
X-MICROSOFT-CDO-ALLDAYEVENT:FALSE
SUMMARY:Silent Holy Night
DESCRIPTION:Candlelight Christmas Eve
X-ALT-DESC;FMTTYPE=text/html:Candlelight Christmas Eve&nbsp\;&nbsp\;&nbsp\;&nbsp\;
LOCATION:GraceWay Church 65 13th Street Prairie du Sac
UID:e.1184.21610
SEQUENCE:3
DTSTAMP:20260424T004613Z
URL:http://members.saukprairie.com/events/details/silent-holy-night-21610
END:VEVENT

END:VCALENDAR
