BEGIN:VCALENDAR
VERSION:2.0
PRODID:-//ChamberMaster//Event Calendar 2.0//EN
METHOD:PUBLISH
X-PUBLISHED-TTL:P3D
REFRESH-INTERVAL:P3D
CALSCALE:GREGORIAN
BEGIN:VEVENT
DTSTART:20190216T170000Z
DTEND:20190216T190000Z
X-MICROSOFT-CDO-ALLDAYEVENT:FALSE
SUMMARY:Silverado Launch Party
DESCRIPTION:Customers Can Take a Test Drive\, Meet Bucky Badger & Enjoy Lunch\n\n\n\nSAUK CITY\, Wis. (Thursday\, February 7\, 2019)   Anyone interested in getting an up-close look at the 2019 Chevrolet Silverado full-size pickup truck is invited to Ballweg Chevrolet Buick's All New 2019 Silverado Launch Party from 11 a.m. 1 p.m. Saturday\, February 16.\n\n\n\nThe dealership is presenting the event so customers have the opportunity to learn more about the new Silverado model and take one for a test drive. All guests will be treated to a free lunch\, and Bucky Badger will make a guest appearance. Additionally\, there will be a raffle for all who attend\, as well as a gift for the first 50 customers.\n\n\n\nAdvance registration for the event is encouraged. Those interesting in attending should call 608.643.8571 or email dvandehey@ballwegchevrolet.com to reserve their spot.
X-ALT-DESC;FMTTYPE=text/html:Customers Can Take a Test Drive\, Meet Bucky Badger &amp\; Enjoy Lunch<br />\n<br />\nSAUK CITY\, Wis. (Thursday\, February 7\, 2019) &ndash\; Anyone interested in getting an up-close look at the 2019 Chevrolet Silverado full-size pickup truck is invited to Ballweg Chevrolet Buick&rsquo\;s All New 2019 Silverado Launch Party from 11 a.m.&ndash\;1 p.m. Saturday\, February 16.<br />\n<br />\nThe dealership is presenting the event so customers have the opportunity to learn more about the new Silverado model and take one for a test drive. All guests will be treated to a free lunch\, and Bucky Badger will make a guest appearance. Additionally\, there will be a raffle for all who attend\, as well as a gift for the first 50 customers.<br />\n<br />\nAdvance registration for the event is encouraged. Those interesting in attending should call 608.643.8571 or email dvandehey@ballwegchevrolet.com to reserve their spot.
LOCATION:783 Phillips Blvd. Sauk City WI 53583
UID:e.1184.22015
SEQUENCE:3
DTSTAMP:20260423T225712Z
URL:http://members.saukprairie.com/events/details/silverado-launch-party-22015
END:VEVENT

END:VCALENDAR
