BEGIN:VCALENDAR
VERSION:2.0
PRODID:-//ChamberMaster//Event Calendar 2.0//EN
METHOD:PUBLISH
X-PUBLISHED-TTL:P3D
REFRESH-INTERVAL:P3D
CALSCALE:GREGORIAN
BEGIN:VEVENT
DTSTART:20240315T220000Z
DTEND:20240315T230000Z
X-MICROSOFT-CDO-ALLDAYEVENT:FALSE
SUMMARY:Skincare Class
DESCRIPTION:Freshen up your skin care routine just in time for spring!\n\n\n\nThe Jore Hair team is here to teach you the importance of having a basic skin care routine to keep you looking and feeling your best! You will receive a mini skincare kit with all the goodies you need to pamper yourself at home! If interested\, please email us at jorehair@gmail.com
X-ALT-DESC;FMTTYPE=text/html:Freshen up your skin care routine just in time for spring!<br />\n<br />\nThe Jore Hair team is here to teach you the importance of having a basic skin care routine to keep you looking and feeling your best! You will<span font-size:="" segoe="" style="color: rgb(5\, 5\, 5)\; font-family: " ui="" white-space-collapse:=""> receive a mini skincare kit with all the goodies you need to pamper yourself at home! </span>If interested\, please email us at <strong><u>jorehair@gmail.com</u></strong>
LOCATION:Jore Hair
UID:e.1184.32073
SEQUENCE:3
DTSTAMP:20260419T231831Z
URL:http://members.saukprairie.com/events/details/skincare-class-32073
END:VEVENT

END:VCALENDAR
