BEGIN:VCALENDAR
VERSION:2.0
PRODID:-//ChamberMaster//Event Calendar 2.0//EN
METHOD:PUBLISH
X-PUBLISHED-TTL:P3D
REFRESH-INTERVAL:P3D
CALSCALE:GREGORIAN
BEGIN:VEVENT
DTSTART;VALUE=DATE:20220708
DTEND;VALUE=DATE:20220711
TRANSP:TRANSPARENT
X-MICROSOFT-CDO-ALLDAYEVENT:TRUE
SUMMARY:Sleigh What? Christmas in July!
DESCRIPTION:It's beginning to look a lot like Christmas here a Merry Macs! Santa and Mrs. Claus will make an appearance\, so parents don't forget the presents! Rocking around the Christmas Tree DJ!
X-ALT-DESC;FMTTYPE=text/html:<span style="color: rgb(5\, 5\, 5)\; font-family: &quot\;Segoe UI Historic&quot\;\, &quot\;Segoe UI&quot\;\, Helvetica\, Arial\, sans-serif\; font-size: 15px\;">It&rsquo\;s beginning to look a lot like Christmas here a Merry Macs! Santa and Mrs. Claus will make an appearance\, so parents don&rsquo\;t forget the presents! Rocking around the Christmas Tree DJ!</span>
LOCATION:Merry Mac's Campground
UID:e.1184.27148
SEQUENCE:3
DTSTAMP:20260421T103816Z
URL:http://members.saukprairie.com/events/details/sleigh-what-christmas-in-july-27148
END:VEVENT

END:VCALENDAR
