BEGIN:VCALENDAR
VERSION:2.0
PRODID:-//ChamberMaster//Event Calendar 2.0//EN
METHOD:PUBLISH
X-PUBLISHED-TTL:P3D
REFRESH-INTERVAL:P3D
CALSCALE:GREGORIAN
BEGIN:VEVENT
DTSTART:20221126T150000Z
DTEND:20221126T210000Z
X-MICROSOFT-CDO-ALLDAYEVENT:FALSE
SUMMARY:Small Biz Saturday at ReTwist-T
DESCRIPTION:Tis the season to Support Small Shops! On this snowy Saturday we celebrate the opening of our are annual "By Kids For Kids" area featuring the creative works of several local young entrepreneurs! And don't miss our in-store Mini Market - Your chance to meet a few of our amazing Artisans and Makers bringing seasonal samples and surprises for this special occasion!
X-ALT-DESC;FMTTYPE=text/html:<div>Tis the season to Support Small Shops! On this snowy Saturday we celebrate the opening of our are annual &quot\;By Kids For Kids&quot\; area featuring the creative works of several local young entrepreneurs! And don&#39\;t miss our in-store Mini Market - Your chance to meet a few of our amazing Artisans and Makers bringing seasonal samples and surprises for this special occasion!</div>\n
LOCATION:ReTwist-T - 515 Water Street - Sauk City\, WI
UID:e.1184.28814
SEQUENCE:3
DTSTAMP:20260421T033729Z
URL:http://members.saukprairie.com/events/details/small-biz-saturday-at-retwist-t-28814
END:VEVENT

END:VCALENDAR
