BEGIN:VCALENDAR
VERSION:2.0
PRODID:-//ChamberMaster//Event Calendar 2.0//EN
METHOD:PUBLISH
X-PUBLISHED-TTL:P3D
REFRESH-INTERVAL:P3D
CALSCALE:GREGORIAN
BEGIN:VEVENT
DTSTART;VALUE=DATE:20230310
DTEND;VALUE=DATE:20230311
TRANSP:TRANSPARENT
X-MICROSOFT-CDO-ALLDAYEVENT:TRUE
SUMMARY:Smelt & Chicken Feed
DESCRIPTION:Smelt & Chicken Feed\n\nFriday\, March 10th at 5pm at the Wisconsin River Sportsmen's Club Clubhouse\n\nFeed Includes:\n\n	Fresh Fried Smelt\n	Grilled Chicken\n	Baked Potato\n	Potato Salad\n	Coleslaw\n	Dinner Rolls\n	Beverage
X-ALT-DESC;FMTTYPE=text/html:Smelt &amp\; Chicken Feed<br />\nFriday\, March 10th at 5pm at the Wisconsin River Sportsmen&rsquo\;s Club Clubhouse<br />\nFeed Includes:\n<ul>\n	<li>Fresh Fried Smelt</li>\n	<li>Grilled Chicken</li>\n	<li>Baked Potato</li>\n	<li>Potato Salad</li>\n	<li>Coleslaw</li>\n	<li>Dinner Rolls</li>\n	<li>Beverage</li>\n</ul>\n
LOCATION:Wisconsin River Sportsmen's Club 10041 County Trunk Y\, Mazomanie\, WI
UID:e.1184.29916
SEQUENCE:3
DTSTAMP:20260420T164905Z
URL:http://members.saukprairie.com/events/details/smelt-chicken-feed-29916
END:VEVENT

END:VCALENDAR
