BEGIN:VCALENDAR
VERSION:2.0
PRODID:-//ChamberMaster//Event Calendar 2.0//EN
METHOD:PUBLISH
X-PUBLISHED-TTL:P3D
REFRESH-INTERVAL:P3D
CALSCALE:GREGORIAN
BEGIN:VEVENT
DTSTART:20191104T230000Z
DTEND:20191105T030000Z
X-MICROSOFT-CDO-ALLDAYEVENT:FALSE
SUMMARY:Smorgasbord
DESCRIPTION:The Dorf Haus supper club\, near Sauk City\, serves its  monthly Monday night all-you-can eat Bavarian-style smorgasbord\, November 4\, 5-9 p.m.\n\n \n\nThe smorgasbord includes knackwurst\, schweinsrippen\, sauerbraten\, wiener schnitzel\, pork schnitzel\, hocks\, spaetzle and other rotating German specialties\, plus salad bar\, German chocolate cake and other specialty desserts. The cost is $18.95 for adults\, $5.50 for children 5-12\, and $3 for four years old and under.\n\n \n\nThe smorgasbord\, offered 15 Mondays a year\, has been voted best buffet in Madison Newspapers reader poll. The smorgasbord draws 250 to 350 fans from a 60 mile radius and beyond to the hamlet Roxbury\, near Sauk City.\n\n \n\nButtons & Banjo plays polkas and more to add to the Bavarian atmosphere and gemuetlichkeit.\n\n \n\nReservations at (608) 643-3980 www.foodspot.com/dorfhau
X-ALT-DESC;FMTTYPE=text/html:<p class="yiv2018820214msonormal" style="margin:0in\;margin-bottom:.0001pt"><span style="color:black\;"><span style="font-family:arialmt\,serif\;">The Dorf Haus supper club\, near Sauk City\, serves its &nbsp\;monthly Monday night all-you-can eat Bavarian-style smorgasbord\, November 4\, 5-9 p.m.</span></span><br />\n&nbsp\;<br />\n<span style="color:black\;"><span style="font-family:arialmt\,serif\;">The smorgasbord includes knackwurst\, schweinsrippen\, sauerbraten\, wiener schnitzel\, pork schnitzel\, hocks\, spaetzle and other rotating German specialties\, plus salad bar\, German chocolate cake and other specialty desserts. The cost is $18.95 for adults\, $5.50 for children 5-12\, and $3 for four years old and under.</span></span><br />\n&nbsp\;<br />\n<span style="color:black\;"><span style="font-family:arialmt\,serif\;">The smorgasbord\, offered 15 Mondays a year\, has been voted best buffet in Madison Newspapers reader poll. The smorgasbord draws 250 to 350 fans from a 60 mile radius and beyond to the hamlet Roxbury\, near Sauk City.</span></span><br />\n&nbsp\;<br />\n<span style="color:black\;"><span style="font-family:arialmt\,serif\;">Buttons &amp\; Banjo plays polkas and more to add to the Bavarian atmosphere and gemuetlichkeit.</span></span><br />\n&nbsp\;<br />\n<span style="color:black\;"><span style="font-family:arialmt\,serif\;">Reservations at (608) 643-3980 </span></span><span style="color:#412231\;"><span style="font-family:arialmt\,serif\;"><a href="http://www.foodspot.com/dorfhaus" target="_blank">www.foodspot.com/dorfhau</a></span></span><br />\n<span style="font-size:10.0pt\;font-family:&quot\;Arial&quot\;\,sans-serif\;color:black"><o:p></o:p></span></p>\n
LOCATION:Dorf haus
UID:e.1184.23623
SEQUENCE:3
DTSTAMP:20260423T083131Z
URL:http://members.saukprairie.com/events/details/smorgasbord-23623
END:VEVENT

END:VCALENDAR
