BEGIN:VCALENDAR
VERSION:2.0
PRODID:-//ChamberMaster//Event Calendar 2.0//EN
METHOD:PUBLISH
X-PUBLISHED-TTL:P3D
REFRESH-INTERVAL:P3D
CALSCALE:GREGORIAN
BEGIN:VEVENT
DTSTART:20200302T230000Z
DTEND:20200303T030000Z
X-MICROSOFT-CDO-ALLDAYEVENT:FALSE
SUMMARY:Smorgasbord
DESCRIPTION:Spring into spring early at the Dorf Haus Bavarian-style supper club near Sauk City\, for the supper club's monthly smorgasbord\, March 2. The Maier family opens the restaurant the first Monday of the month to offer an all-you-can eat smorgasbord\, Bavarian style.\n\n \n\nServed from 5 p.m.-9 p.m.\, the Smorgasbord includes Knackwurst\, Schweinsrippen\, Sauerbraten\, Wiener Schnitzel\, Pork Schnitzel\, Hocks\, Spatzle\, Kartoffel\, Nudeln\, Kraut and other rotating German specialties\, plus salad bar and desserts. The cost is $18.95 for adults\, $5.50 for children 5-12\, and $3 for four years old and under.\n\n \n\nButtons & Banjo plays polkas and more from 5:15-8:30 p.m. at each smorgasbord\, held the first Mondays of each month year round\, and adds the third Monday of each month  in June\, July and August. \n\n \n\nThe Dorf Haus\, a second generation family-owned restaurant and banquet facility\, noted for German and American food\, is celebrating 61 years. The Monday night Smorgasbord has been a tradition for 39 years.\n\n \n\nReservations at (608) 643-3980      www.foodspot.com/dorfhaus
X-ALT-DESC;FMTTYPE=text/html:<p class="yiv0409316702msonormal" style="margin:0in\;margin-bottom:.0001pt"><strong><span style="font-size:10.0pt\;font-family:&quot\;Arial&quot\;\,sans-serif\;color:black\;font-weight:\nnormal">Spring into spring early at the Dorf Haus Bavarian-style supper club near Sauk City\, for the supper club&rsquo\;s monthly smorgasbord\, March 2. The Maier family opens the restaurant the first Monday of the month to offer an all-you-can eat smorgasbord\, Bavarian style.</span></strong><span style="font-size:10.0pt\;font-family:&quot\;Arial&quot\;\,sans-serif\;color:black"><o:p></o:p></span></p>\n\n<p class="yiv0409316702msonormal" style="margin:0in\;margin-bottom:.0001pt"><span style="font-size:10.0pt\;font-family:&quot\;Arial&quot\;\,sans-serif\;color:black">&nbsp\;<o:p></o:p></span></p>\n\n<p class="yiv0409316702msonormal" style="margin:0in\;margin-bottom:.0001pt"><strong><span style="font-size:10.0pt\;font-family:&quot\;Arial&quot\;\,sans-serif\;color:black\;font-weight:\nnormal">Served from 5 p.m.-9 p.m.\, the Smorgasbord includes</span></strong><em><span style="font-size:10.0pt\;font-family:&quot\;Arial&quot\;\,sans-serif\;color:black\;font-style:\nnormal">&nbsp\;Knackwurst\, Schweinsrippen\, Sauerbraten\, Wiener Schnitzel\, Pork Schnitzel\, Hocks\, Spatzle\, Kartoffel\, Nudeln\, Kraut and other rotating German specialties\, plus salad bar and desserts. The cost is $18.95&nbsp\;for adults\, $5.50&nbsp\;for children 5-12\, and $3 for four years old and under.</span></em><span style="font-size:10.0pt\;font-family:&quot\;Arial&quot\;\,sans-serif\;color:black"><o:p></o:p></span></p>\n\n<p class="yiv0409316702msonormal" style="margin:0in\;margin-bottom:.0001pt"><span style="font-size:10.0pt\;font-family:&quot\;Arial&quot\;\,sans-serif\;color:black">&nbsp\;<o:p></o:p></span></p>\n\n<p class="yiv0409316702msonormal" style="margin:0in\;margin-bottom:.0001pt"><em><span style="font-size:10.0pt\;font-family:&quot\;Arial&quot\;\,sans-serif\;color:black\;font-style:\nnormal">Buttons &amp\; Banjo plays polkas and more from 5:15-8:30 p.m. at each smorgasbord\, held the first Mondays of each month year round\, and adds the third Monday of each month&nbsp\; in June\, July and August. </span></em><span style="font-size:10.0pt\;font-family:&quot\;Arial&quot\;\,sans-serif\;color:black"><o:p></o:p></span></p>\n\n<p class="yiv0409316702msonormal" style="margin:0in\;margin-bottom:.0001pt"><span style="font-size:10.0pt\;font-family:&quot\;Arial&quot\;\,sans-serif\;color:black">&nbsp\;<o:p></o:p></span></p>\n\n<p class="yiv0409316702msonormal" style="margin:0in\;margin-bottom:.0001pt"><em><span style="font-size:10.0pt\;font-family:&quot\;Arial&quot\;\,sans-serif\;color:black\;font-style:\nnormal">The Dorf Haus\, a second generation family-owned restaurant and banquet facility\, noted for German and American food\, is celebrating 61 years. The Monday night Smorgasbord has been a tradition for 39 years.</span></em><span style="font-size:10.0pt\;font-family:&quot\;Arial&quot\;\,sans-serif\;color:black"><o:p></o:p></span></p>\n\n<p class="yiv0409316702msonormal" style="margin:0in\;margin-bottom:.0001pt"><span style="font-size:10.0pt\;font-family:&quot\;Arial&quot\;\,sans-serif\;color:black">&nbsp\;<o:p></o:p></span></p>\n\n<p class="yiv0409316702msonormal" style="margin:0in\;margin-bottom:.0001pt"><em><span style="font-size:10.0pt\;font-family:&quot\;Arial&quot\;\,sans-serif\;color:black\;font-style:\nnormal">Reservations at (608) 643-3980&nbsp\;&nbsp\;&nbsp\;&nbsp\;&nbsp\;&nbsp\;</span></em><span style="font-size:10.0pt\;font-family:&quot\;Arial&quot\;\,sans-serif\;color:black"><a href="http://www.foodspot.com/dorfhaus" target="_blank"><span style="color:\n#954F72">www.foodspot.com/dorfhaus</span></a><o:p></o:p></span></p>\n\n<p class="yiv2018820214msonormal" style="margin:0in\;margin-bottom:.0001pt"><br />\n<span style="font-size:10.0pt\;font-family:&quot\;Arial&quot\;\,sans-serif\;color:black"><o:p></o:p></span></p>\n
LOCATION:Dorf haus
UID:e.1184.24105
SEQUENCE:3
DTSTAMP:20260423T025037Z
URL:http://members.saukprairie.com/events/details/smorgasbord-24105
END:VEVENT

END:VCALENDAR
