BEGIN:VCALENDAR
VERSION:2.0
PRODID:-//ChamberMaster//Event Calendar 2.0//EN
METHOD:PUBLISH
X-PUBLISHED-TTL:P3D
REFRESH-INTERVAL:P3D
CALSCALE:GREGORIAN
BEGIN:VEVENT
DTSTART;VALUE=DATE:20190701
DTEND;VALUE=DATE:20190702
TRANSP:TRANSPARENT
X-MICROSOFT-CDO-ALLDAYEVENT:TRUE
SUMMARY:Smorgasbord for Summer
DESCRIPTION:A sure sign of summer\, the popular smorgasbord at the Dorf Haus\, a Bavarian-style supper club\, near Sauk City\, will include the third Mondays of each month in June\, July and August in addition to the traditional first Monday.  Summer Smorgasbord dates are June 3\, 17\, July 1\, 15\, August 5 and 19. The  all-you-can eat smorgasbord draws 250 to 350  fans from a 60 mile radius and beyond to the hamlet Roxbury\, near Sauk City\, according to Rebecca Maier-Frey\, co-manager of the family-owned supper club.\n\n \n\nThe Bavarian Smorgasbord\, served from 5 p.m.-9 p.m.\, includes Knackwurst\, Schweinsrippen\, Sauerbraten\, Wiener Schnitzel\, Pork Schnitzel\, Hocks\, Spatzle\, Kartoffel\, Nudeln\, Kraut and other rotating German specialties\, plus salad bar and desserts. The cost is $17.95 for adults\, $5.50 for children 5-12\, and $3 for four years old and under.\n\n \n\nIn keeping with the Bavarian atmosphere\, Buttons & Banjo plays polkas and more from 5:15-8:30 p.m. at each smorgasbord.  \n\n \n\nThe Dorf Haus\, celebrating 60 years\, is a second generation family-owned restaurant and banquet facility\, noted for German and American food. The Dorf Haus continually earns reader poll awards for best fish fry\, Wisconsin Brandy Old Fashioned\, supper club\, buffet and more. The Monday night Smorgasbord has been a tradition for 37 years.\n\n \n\nReservations at (608) 643-3980      www.foodspot.com/dorfhaus
X-ALT-DESC;FMTTYPE=text/html:<p class="yiv2018820214msonormal" style="margin:0in\;margin-bottom:.0001pt"><strong><span style="font-size:10.0pt\;font-family:&quot\;Arial&quot\;\,sans-serif\;color:black\;font-weight:\nnormal">A sure sign of summer\, the popular smorgasbord at the Dorf Haus\, a Bavarian-style supper club\, near Sauk City\,&nbsp\;will include the third Mondays of each month in June\, July and August in addition to the traditional first Monday. &nbsp\;Summer Smorgasbord dates are June 3\, 17\, July 1\, 15\, August 5 and 19. The&nbsp\; all-you-can eat smorgasbord draws 250 to 350&nbsp\; fans from a 60 mile radius and beyond to the hamlet Roxbury\, near Sauk City\, according to Rebecca Maier-Frey\, co-manager of the family-owned supper club.</span></strong><span style="font-size:10.0pt\;font-family:&quot\;Arial&quot\;\,sans-serif\;color:black"><o:p></o:p></span></p>\n\n<p class="yiv2018820214msonormal" style="margin:0in\;margin-bottom:.0001pt"><span style="font-size:10.0pt\;font-family:&quot\;Arial&quot\;\,sans-serif\;color:black">&nbsp\;<o:p></o:p></span></p>\n\n<p class="yiv2018820214msonormal" style="margin:0in\;margin-bottom:.0001pt"><strong><span style="font-size:10.0pt\;font-family:&quot\;Arial&quot\;\,sans-serif\;color:black\;font-weight:\nnormal">The Bavarian Smorgasbord\, served from 5 p.m.-9 p.m.\, includes</span></strong><em><span style="font-size:10.0pt\;font-family:&quot\;Arial&quot\;\,sans-serif\;color:black\;font-style:\nnormal">&nbsp\;Knackwurst\, Schweinsrippen\, Sauerbraten\, Wiener Schnitzel\, Pork Schnitzel\, Hocks\, Spatzle\, Kartoffel\, Nudeln\, Kraut and other rotating German specialties\, plus salad bar and desserts. The cost is $17.95&nbsp\;for adults\, $5.50&nbsp\;for children 5-12\, and $3 for four years old and under.</span></em><span style="font-size:10.0pt\;font-family:&quot\;Arial&quot\;\,sans-serif\;color:black"><o:p></o:p></span></p>\n\n<p class="yiv2018820214msonormal" style="margin:0in\;margin-bottom:.0001pt"><span style="font-size:10.0pt\;font-family:&quot\;Arial&quot\;\,sans-serif\;color:black">&nbsp\;<o:p></o:p></span></p>\n\n<p class="yiv2018820214msonormal" style="margin:0in\;margin-bottom:.0001pt"><em><span style="font-size:10.0pt\;font-family:&quot\;Arial&quot\;\,sans-serif\;color:black\;font-style:\nnormal">In keeping with the Bavarian atmosphere\, Buttons &amp\; Banjo plays polkas and more from 5:15-8:30 p.m. at each smorgasbord.&nbsp\;</span></em><span style="font-size:10.0pt\;font-family:&quot\;Arial&quot\;\,sans-serif\;color:black">&nbsp\;<o:p></o:p></span></p>\n\n<p class="yiv2018820214msonormal" style="margin:0in\;margin-bottom:.0001pt"><span style="font-size:10.0pt\;font-family:&quot\;Arial&quot\;\,sans-serif\;color:black">&nbsp\;<o:p></o:p></span></p>\n\n<p class="yiv2018820214msonormal" style="margin:0in\;margin-bottom:.0001pt"><em><span style="font-size:10.0pt\;font-family:&quot\;Arial&quot\;\,sans-serif\;color:black\;font-style:\nnormal">The Dorf Haus\, celebrating 60 years\, is a second generation family-owned restaurant and banquet facility\, noted for German and American food. The Dorf Haus continually earns reader poll awards for best fish fry\, Wisconsin Brandy Old Fashioned\, supper club\, buffet and more. The Monday night Smorgasbord has been a tradition for 37 years.</span></em><span style="font-size:10.0pt\;font-family:&quot\;Arial&quot\;\,sans-serif\;color:black"><o:p></o:p></span></p>\n\n<p class="yiv2018820214msonormal" style="margin:0in\;margin-bottom:.0001pt"><span style="font-size:10.0pt\;font-family:&quot\;Arial&quot\;\,sans-serif\;color:black">&nbsp\;<o:p></o:p></span></p>\n\n<p class="yiv2018820214msonormal" style="margin:0in\;margin-bottom:.0001pt"><em><span style="font-size:10.0pt\;font-family:&quot\;Arial&quot\;\,sans-serif\;color:black\;font-style:\nnormal">Reservations at (608) 643-3980&nbsp\;&nbsp\;&nbsp\;&nbsp\;&nbsp\;&nbsp\;</span></em><span style="font-size:10.0pt\;font-family:&quot\;Arial&quot\;\,sans-serif\;color:black"><a href="http://www.foodspot.com/dorfhaus" target="_blank"><span style="color:\n#954F72">www.foodspot.com/dorfhaus</span></a><o:p></o:p></span></p>\n\n<p class="yiv2018820214msonormal" style="margin:0in\;margin-bottom:.0001pt"><span style="font-size:10.0pt\;font-family:&quot\;Arial&quot\;\,sans-serif\;color:black"><o:p></o:p></span></p>\n
LOCATION:
UID:e.1184.22466
SEQUENCE:3
DTSTAMP:20260423T153704Z
URL:http://members.saukprairie.com/events/details/smorgasbord-for-summer-07-01-2019-22466
END:VEVENT

END:VCALENDAR
