BEGIN:VCALENDAR
VERSION:2.0
PRODID:-//ChamberMaster//Event Calendar 2.0//EN
METHOD:PUBLISH
X-PUBLISHED-TTL:P3D
REFRESH-INTERVAL:P3D
CALSCALE:GREGORIAN
BEGIN:VEVENT
DTSTART:20181203T190000Z
DTEND:20181203T200000Z
X-MICROSOFT-CDO-ALLDAYEVENT:FALSE
SUMMARY:Snow Globe Workshop
DESCRIPTION:Do you want to build a snow globe? Well here's your chance! Kids can learn how to make their very own snow globe just in time for the Holiday Season. Make it for yourself or as a cool Christmas gift for family or friends. Materials are provided. Children under 6 must be accompanied.\n\nSign up at the front desk or call 608-643-8346.
X-ALT-DESC;FMTTYPE=text/html:Do you want to build a snow globe? Well here&rsquo\;s your chance! Kids can learn how to make their very own snow globe just in time for the Holiday Season. Make it for yourself or as a cool Christmas gift for family or friends. Materials are provided. Children under 6 must be accompanied.<br />\nSign up at the front desk or call 608-643-8346.
LOCATION:Sauk City Library 515 Water St Sauk City\, WI
UID:e.1184.21431
SEQUENCE:3
DTSTAMP:20260424T003110Z
URL:http://members.saukprairie.com/events/details/snow-globe-workshop-12-03-2018-21431
END:VEVENT

END:VCALENDAR
