BEGIN:VCALENDAR
VERSION:2.0
PRODID:-//ChamberMaster//Event Calendar 2.0//EN
METHOD:PUBLISH
X-PUBLISHED-TTL:P3D
REFRESH-INTERVAL:P3D
CALSCALE:GREGORIAN
BEGIN:VEVENT
DTSTART:20170327T230000Z
DTEND:20170328T010000Z
X-MICROSOFT-CDO-ALLDAYEVENT:FALSE
SUMMARY:Soaps & Salts for Adults
DESCRIPTION:Learn how to make your own soaps and bath salts at the Ruth Culver Community Library. All supplies and tools will be provided. Space is limited\; registration is required! This event is open to adults only and is sponsored by the Friends of the Ruth Culver Community Library. Contact Charlene at 643-8318 with questions.
X-ALT-DESC;FMTTYPE=text/html:Learn how to make your own soaps and bath salts at the Ruth Culver Community Library. All supplies and tools will be provided. Space is limited\; registration is required! This event is open to adults only and is sponsored by the Friends of the Ruth Culver Community Library. Contact Charlene at 643-8318 with questions.
LOCATION:Ruth Culver Community Library 540 Water St.\, Prairie du Sac
UID:e.1184.9854
SEQUENCE:3
DTSTAMP:20260425T110126Z
URL:http://members.saukprairie.com/events/details/soaps-salts-for-adults-9854
END:VEVENT

END:VCALENDAR
