BEGIN:VCALENDAR
VERSION:2.0
PRODID:-//ChamberMaster//Event Calendar 2.0//EN
METHOD:PUBLISH
X-PUBLISHED-TTL:P3D
REFRESH-INTERVAL:P3D
CALSCALE:GREGORIAN
BEGIN:VEVENT
DTSTART:20180616T180000Z
DTEND:20180616T190000Z
X-MICROSOFT-CDO-ALLDAYEVENT:FALSE
SUMMARY:Sock Hop Dance
DESCRIPTION:Grab your dance shoes or craziest socks and head on down to the library!\n\nLook for:\n\n  Hula Hooping\n\n  Limbo & Bubble Gum Contests\n\n  50's Costumes Encouraged
X-ALT-DESC;FMTTYPE=text/html:<p>Grab your dance shoes or craziest socks and head on down to the library!</p>\n\n<p>Look for:<br />\n&ndash\; Hula Hooping<br />\n&ndash\; Limbo &amp\; Bubble Gum Contests<br />\n&ndash\; 50&rsquo\;s Costumes Encouraged</p>\n
LOCATION:
UID:e.1184.18322
SEQUENCE:3
DTSTAMP:20260424T100413Z
URL:http://members.saukprairie.com/events/details/sock-hop-dance-18322
END:VEVENT

END:VCALENDAR
