BEGIN:VCALENDAR
VERSION:2.0
PRODID:-//ChamberMaster//Event Calendar 2.0//EN
METHOD:PUBLISH
X-PUBLISHED-TTL:P3D
REFRESH-INTERVAL:P3D
CALSCALE:GREGORIAN
BEGIN:VEVENT
DTSTART:20231014T150000Z
DTEND:20231014T180000Z
X-MICROSOFT-CDO-ALLDAYEVENT:FALSE
SUMMARY:Solar Eclipse Party
DESCRIPTION:Did you know that two solar eclipses are happening in the near future? Plan to celebrate at our Eclipse Parties\, a partnership with Solar Eclipse Activities for Libraries (SEAL)! On October 14\, the sun will be about 45% covered just before noon. Drop in for free eclipse glasses\, an outdoor scavenger hunt\, live feeds from NASA\, sun-themed music\, snacks\, and a DIY pinhole projector craft.\n\nOur next party will be on Monday\, April 8\, when the sun will be almost entirely covered in our area at 2pm!
X-ALT-DESC;FMTTYPE=text/html:Did you know that two solar eclipses are happening in the near future? Plan to celebrate at our Eclipse Parties\, a partnership with Solar Eclipse Activities for Libraries (SEAL)! On October 14\, the sun will be about 45% covered just before noon. Drop in for free eclipse glasses\, an outdoor scavenger hunt\, live feeds from NASA\, sun-themed music\, snacks\, and a DIY pinhole projector craft.<br />\nOur next party will be on Monday\, April 8\, when the sun will be almost entirely covered in our area at 2pm!
LOCATION:615 Phillips Blvd. Sauk City\, WI 53583
UID:e.1184.31031
SEQUENCE:3
DTSTAMP:20260420T061135Z
URL:http://members.saukprairie.com/events/details/solar-eclipse-party-31031
END:VEVENT

END:VCALENDAR
