BEGIN:VCALENDAR
VERSION:2.0
PRODID:-//ChamberMaster//Event Calendar 2.0//EN
METHOD:PUBLISH
X-PUBLISHED-TTL:P3D
REFRESH-INTERVAL:P3D
CALSCALE:GREGORIAN
BEGIN:VEVENT
DTSTART:20200304T010000Z
DTEND:20200304T030000Z
X-MICROSOFT-CDO-ALLDAYEVENT:FALSE
SUMMARY:Solving the Vaping Crisis: A Community Conversation
DESCRIPTION:E-cigarette use among high school students nationwide has grown from 11% in 2017 to 27.5% in 2019\, and 10.5% of middle school students also report using vaping materials in the last 30 days.\n\n\n\nLearn more about the impact of vaping is having in our local community and help recommend steps for leaders to take.\n\n\n\nState and local experts from the School District of Baraboo\, City of Baraboo\, South Central Wisconsin Tobacco -Free Coalition\, the Baraboo Police Department\, and other area agencies\, groups and elected officials will be attending\n\n\n\nRoom A104 (Giese Lecture Hall) in the Umhoefer Building
X-ALT-DESC;FMTTYPE=text/html:E-cigarette use among high school students nationwide has grown from 11% in 2017 to 27.5% in 2019\, and 10.5% of middle school students also report using vaping materials in the last 30 days.<br />\n<br />\nLearn more about the impact of vaping is having in our local community and help recommend steps for leaders to take.<br />\n<br />\nState and local experts from the School District of Baraboo\, City of Baraboo\, South Central Wisconsin Tobacco -Free Coalition\, the Baraboo Police Department\, and other area agencies\, groups and elected officials will be attending<br />\n<br />\nRoom A104 (Giese Lecture Hall) in the Umhoefer Building
LOCATION:UW Platteville Baraboo Sauk County 1006 Connie Rd Room A104 (Giese Lecture Hall) in the Umhoefer Building
UID:e.1184.24079
SEQUENCE:3
DTSTAMP:20260423T041018Z
URL:http://members.saukprairie.com/events/details/solving-the-vaping-crises-a-community-conversation-24079
END:VEVENT

END:VCALENDAR
